BEGIN:VCALENDAR
VERSION:2.0
PRODID:-//MassHire Cape and Islands Career Center - ECPv6.15.20//NONSGML v1.0//EN
CALSCALE:GREGORIAN
METHOD:PUBLISH
X-ORIGINAL-URL:https://www.masshire-capeandislands.com
X-WR-CALDESC:Events for MassHire Cape and Islands Career Center
REFRESH-INTERVAL;VALUE=DURATION:PT1H
X-Robots-Tag:noindex
X-PUBLISHED-TTL:PT1H
BEGIN:VTIMEZONE
TZID:America/New_York
BEGIN:DAYLIGHT
TZOFFSETFROM:-0500
TZOFFSETTO:-0400
TZNAME:EDT
DTSTART:20250309T070000
END:DAYLIGHT
BEGIN:STANDARD
TZOFFSETFROM:-0400
TZOFFSETTO:-0500
TZNAME:EST
DTSTART:20251102T060000
END:STANDARD
BEGIN:DAYLIGHT
TZOFFSETFROM:-0500
TZOFFSETTO:-0400
TZNAME:EDT
DTSTART:20260308T070000
END:DAYLIGHT
BEGIN:STANDARD
TZOFFSETFROM:-0400
TZOFFSETTO:-0500
TZNAME:EST
DTSTART:20261101T060000
END:STANDARD
BEGIN:DAYLIGHT
TZOFFSETFROM:-0500
TZOFFSETTO:-0400
TZNAME:EDT
DTSTART:20270314T070000
END:DAYLIGHT
BEGIN:STANDARD
TZOFFSETFROM:-0400
TZOFFSETTO:-0500
TZNAME:EST
DTSTART:20271107T060000
END:STANDARD
END:VTIMEZONE
BEGIN:VEVENT
DTSTART;TZID=America/New_York:20260528T133000
DTEND;TZID=America/New_York:20260528T143000
DTSTAMP:20260419T123314
CREATED:20260415T130727Z
LAST-MODIFIED:20260415T130727Z
UID:41444-1779975000-1779978600@www.masshire-capeandislands.com
SUMMARY:Cover Letters that Work • In-Person
DESCRIPTION:This seminar goes hand-in-hand with our popular Resumes That Work seminar. In fact\, many employers say cover letters are as important as resumes. Grab the attention of employers with a strong cover letter that soundly presents your qualifications and helps you stand out from the crowd. \n*You may also want to schedule a 15-minute one-on-one Resume Review with a MassHire Certified Resume Writer. *These are by appointment only. Please call: 508-862-6104. \nRegistration must be completed 24 hours prior to the workshop date. You must have a valid email address to register for any workshop. \nYou may also register for a workshop by calling 508-771-JOBS (5627). Please have your Job Seeker ID# and email address information ready. You can also register through JobQuest and then select Cape and Islands Career Center for a list of scheduled workshops. You will need your Job Seeker ID# to register through JobQuest. \nIf you are having difficulty logging into JobQuest\, please call 508-771-JOBS (5627)\, or stop by the Career Center during regular business hours\, Monday–Friday 8:00am to 4:00pm. \n Register Now\n 
URL:https://www.masshire-capeandislands.com/event/cover-letters-that-work-in-person-may-28-26/
CATEGORIES:In-Person
ATTACH;FMTTYPE=image/jpeg:https://www.masshire-capeandislands.com/wp-content/uploads/Workshop-Cover-Letters.jpg
END:VEVENT
END:VCALENDAR