BEGIN:VCALENDAR
VERSION:2.0
PRODID:-//MassHire Cape and Islands Career Center - ECPv6.15.20//NONSGML v1.0//EN
CALSCALE:GREGORIAN
METHOD:PUBLISH
X-ORIGINAL-URL:https://www.masshire-capeandislands.com
X-WR-CALDESC:Events for MassHire Cape and Islands Career Center
REFRESH-INTERVAL;VALUE=DURATION:PT1H
X-Robots-Tag:noindex
X-PUBLISHED-TTL:PT1H
BEGIN:VTIMEZONE
TZID:America/New_York
BEGIN:DAYLIGHT
TZOFFSETFROM:-0500
TZOFFSETTO:-0400
TZNAME:EDT
DTSTART:20220313T070000
END:DAYLIGHT
BEGIN:STANDARD
TZOFFSETFROM:-0400
TZOFFSETTO:-0500
TZNAME:EST
DTSTART:20221106T060000
END:STANDARD
BEGIN:DAYLIGHT
TZOFFSETFROM:-0500
TZOFFSETTO:-0400
TZNAME:EDT
DTSTART:20230312T070000
END:DAYLIGHT
BEGIN:STANDARD
TZOFFSETFROM:-0400
TZOFFSETTO:-0500
TZNAME:EST
DTSTART:20231105T060000
END:STANDARD
BEGIN:DAYLIGHT
TZOFFSETFROM:-0500
TZOFFSETTO:-0400
TZNAME:EDT
DTSTART:20240310T070000
END:DAYLIGHT
BEGIN:STANDARD
TZOFFSETFROM:-0400
TZOFFSETTO:-0500
TZNAME:EST
DTSTART:20241103T060000
END:STANDARD
END:VTIMEZONE
BEGIN:VEVENT
DTSTART;TZID=America/New_York:20230606T133000
DTEND;TZID=America/New_York:20230606T143000
DTSTAMP:20260425T000234
CREATED:20230522T164639Z
LAST-MODIFIED:20230522T164639Z
UID:35027-1686058200-1686061800@www.masshire-capeandislands.com
SUMMARY:Training and Education Services (Recorded)
DESCRIPTION:If you are unemployed or underemployed and can’t find a job using your current skills\, you may be eligible for free training.  Learn how you can access training and education resources available through the career center. \nRegistration must be completed 24 hours prior to the workshop date. You must have a valid email address to register for any workshop. \nYou may also register for a workshop by calling 508-771-JOBS (5627).  Please have your Job Seeker ID# and email address information ready. You can also register through JobQuest and then select Cape and Islands Career Center for a list of scheduled workshops.  You will need your Job Seeker ID# to register through JobQuest. \nWe recommend that you check your computer power source\, internet connections and audio prior to joining the virtual workshop. Please note that there may be technology programs – either on our end or on yours – due to the high demand for remote services.  We will do our best to present our virtual workshops with as few issues as possible but we will not be able to help troubleshoot issues you may encounter. \nRegister Now
URL:https://www.masshire-capeandislands.com/event/training-and-education-services-recorded-jun-6/
CATEGORIES:Recording
ATTACH;FMTTYPE=image/jpeg:https://www.masshire-capeandislands.com/wp-content/uploads/Event-Training.jpg
END:VEVENT
BEGIN:VEVENT
DTSTART;TZID=America/New_York:20230607T133000
DTEND;TZID=America/New_York:20230607T143000
DTSTAMP:20260425T000234
CREATED:20230522T163756Z
LAST-MODIFIED:20230522T163756Z
UID:35017-1686144600-1686148200@www.masshire-capeandislands.com
SUMMARY:Networking in a Virtual World (Recorded)
DESCRIPTION:It’s estimated that as many as 70% of open positions are filled through networking. Get strategies for networking in a virtual world to land your next job. \nRegistration must be completed 48 hours prior to the workshop date. You must have a valid email address to register for any workshop. \nYou may also register for a workshop by calling 508-771-JOBS (5627).  Please have your Job Seeker ID# and email address information ready. You can also register through JobQuest and then select Cape and Islands Career Center for a list of scheduled workshops. You will need your Job Seeker ID# to register through JobQuest. \nWe recommend that you check your computer power source\, internet connections and audio prior to joining the virtual workshop. Please note that there may be technology programs – either on our end or on yours – due to the high demand for remote services.  We will do our best to present our virtual workshops with as few issues as possible\, but we will not be able to help troubleshoot issues you may encounter. \nRegister Now
URL:https://www.masshire-capeandislands.com/event/networking-in-a-virtual-world-recorded-jun-7/
CATEGORIES:Recording
ATTACH;FMTTYPE=image/jpeg:https://www.masshire-capeandislands.com/wp-content/uploads/iStock-1180054313.jpg
END:VEVENT
BEGIN:VEVENT
DTSTART;TZID=America/New_York:20230609T100000
DTEND;TZID=America/New_York:20230609T110000
DTSTAMP:20260425T000234
CREATED:20230522T160255Z
LAST-MODIFIED:20230824T204858Z
UID:34955-1686304800-1686308400@www.masshire-capeandislands.com
SUMMARY:Career Exploration Using O*NET (Recorded)
DESCRIPTION:A guide to O*NET online set of self-directed career exploration/assessment tools to help you consider and plan career options\, preparation and transitions to new a career that fits your interests and skills. \nRegistration must be completed 48 hours prior to the workshop date. You must have a valid email address to register for any workshop. \nYou may also register for a workshop by calling 508-771-JOBS (5627). Please have your Job Seeker ID# and email address information ready. You can also register through JobQuest and then select Cape and Islands Career Center for a list of scheduled workshops. You will need your Job Seeker ID# to register through JobQuest. \nThis workshop is being offered in our computer seminar room\, and participants will have an opportunity to get online to try the software programs themselves during this session. \nRegister Now
URL:https://www.masshire-capeandislands.com/event/career-exploration-using-onet-recorded-jun-9/
CATEGORIES:Recording
ATTACH;FMTTYPE=image/jpeg:https://www.masshire-capeandislands.com/wp-content/uploads/CareerExploration.jpg
END:VEVENT
BEGIN:VEVENT
DTSTART;TZID=America/New_York:20230615T133000
DTEND;TZID=America/New_York:20230615T143000
DTSTAMP:20260425T000234
CREATED:20230522T161855Z
LAST-MODIFIED:20230522T161855Z
UID:34989-1686835800-1686839400@www.masshire-capeandislands.com
SUMMARY:Effective Negotiation Using LMI (Recorded)
DESCRIPTION:Congratulations! You nailed the interview\, and now the offer is on the table. But is there any room for negotiation? Does this offer sound reasonable based on the job market\, your experience\, and qualifications? Is it comparable to the wages being offered in this market? \nLearn how to effectively use labor market information in your salary negotiation. \nRegistration must be completed 48 hours prior to the workshop date. You must have a valid email address to register for any workshop. \nYou may also register for a workshop by calling 508-771-JOBS (5627).  Please have your Job Seeker ID# and email address information ready. You can also register through JobQuest and then select Cape and Islands Career Center for a list of scheduled workshops.  You will need your Job Seeker ID# to register through JobQuest. \nRegister Now
URL:https://www.masshire-capeandislands.com/event/effective-negotiation-using-lmi-recorded-jun-15/
CATEGORIES:Recording
ATTACH;FMTTYPE=image/jpeg:https://www.masshire-capeandislands.com/wp-content/uploads/Event-SalaryNegotiation.jpg
END:VEVENT
BEGIN:VEVENT
DTSTART;TZID=America/New_York:20230616T100000
DTEND;TZID=America/New_York:20230616T110000
DTSTAMP:20260425T000234
CREATED:20230522T162228Z
LAST-MODIFIED:20230522T162228Z
UID:34993-1686909600-1686913200@www.masshire-capeandislands.com
SUMMARY:Exploring Your Interests and Options (Recorded)
DESCRIPTION:Are you looking for a new direction? Not sure of what jobs would be a good fit? Using 2 assessments\, you can identify jobs that would be a good fit for your interests and personality. \nRegistration must be completed 48 hours prior to the workshop date. You must have a valid email address to register for any workshop. \nYou may also register for a workshop by calling 508-771-JOBS (5627). Please have your Job Seeker ID# and email address information ready. You can also register through JobQuest and then select Cape and Islands Career Center for a list of scheduled workshops. You will need your Job Seeker ID# to register through JobQuest. \nThis workshop is being offered in our computer seminar room\, and participants will have an opportunity to get on-line to try the software programs themselves during the session. \nRegister Now
URL:https://www.masshire-capeandislands.com/event/exploring-your-interests-and-options-recorded-jun-16/
CATEGORIES:Recording
ATTACH;FMTTYPE=image/jpeg:https://www.masshire-capeandislands.com/wp-content/uploads/interests.jpg
END:VEVENT
BEGIN:VEVENT
DTSTART;TZID=America/New_York:20230621T133000
DTEND;TZID=America/New_York:20230621T143000
DTSTAMP:20260425T000234
CREATED:20230522T163938Z
LAST-MODIFIED:20230522T163938Z
UID:35019-1687354200-1687357800@www.masshire-capeandislands.com
SUMMARY:Networking in a Virtual World (Recorded)
DESCRIPTION:It’s estimated that as many as 70% of open positions are filled through networking. Get strategies for networking in a virtual world to land your next job. \nRegistration must be completed 48 hours prior to the workshop date. You must have a valid email address to register for any workshop. \nYou may also register for a workshop by calling 508-771-JOBS (5627).  Please have your Job Seeker ID# and email address information ready. You can also register through JobQuest and then select Cape and Islands Career Center for a list of scheduled workshops. You will need your Job Seeker ID# to register through JobQuest. \nWe recommend that you check your computer power source\, internet connections and audio prior to joining the virtual workshop. Please note that there may be technology programs – either on our end or on yours – due to the high demand for remote services.  We will do our best to present our virtual workshops with as few issues as possible\, but we will not be able to help troubleshoot issues you may encounter. \nRegister Now
URL:https://www.masshire-capeandislands.com/event/networking-in-a-virtual-world-recorded-jun-21/
CATEGORIES:Recording
ATTACH;FMTTYPE=image/jpeg:https://www.masshire-capeandislands.com/wp-content/uploads/iStock-1180054313.jpg
END:VEVENT
BEGIN:VEVENT
DTSTART;TZID=America/New_York:20230627T133000
DTEND;TZID=America/New_York:20230627T143000
DTSTAMP:20260425T000234
CREATED:20230522T162007Z
LAST-MODIFIED:20230522T162007Z
UID:34991-1687872600-1687876200@www.masshire-capeandislands.com
SUMMARY:Effective Negotiation Using LMI (Recorded)
DESCRIPTION:Congratulations! You nailed the interview\, and now the offer is on the table. But is there any room for negotiation? Does this offer sound reasonable based on the job market\, your experience\, and qualifications? Is it comparable to the wages being offered in this market? \nLearn how to effectively use labor market information in your salary negotiation. \nRegistration must be completed 48 hours prior to the workshop date. You must have a valid email address to register for any workshop. \nYou may also register for a workshop by calling 508-771-JOBS (5627).  Please have your Job Seeker ID# and email address information ready. You can also register through JobQuest and then select Cape and Islands Career Center for a list of scheduled workshops.  You will need your Job Seeker ID# to register through JobQuest. \nRegister Now
URL:https://www.masshire-capeandislands.com/event/effective-negotiation-using-lmi-recorded-jun-27/
CATEGORIES:Recording
ATTACH;FMTTYPE=image/jpeg:https://www.masshire-capeandislands.com/wp-content/uploads/Event-SalaryNegotiation.jpg
END:VEVENT
BEGIN:VEVENT
DTSTART;TZID=America/New_York:20230628T133000
DTEND;TZID=America/New_York:20230628T143000
DTSTAMP:20260425T000234
CREATED:20230522T162359Z
LAST-MODIFIED:20230522T162359Z
UID:34997-1687959000-1687962600@www.masshire-capeandislands.com
SUMMARY:Exploring Your Interests and Options (Recorded)
DESCRIPTION:Are you looking for a new direction? Not sure of what jobs would be a good fit? Using 2 assessments\, you can identify jobs that would be a good fit for your interests and personality. \nRegistration must be completed 48 hours prior to the workshop date. You must have a valid email address to register for any workshop. \nYou may also register for a workshop by calling 508-771-JOBS (5627). Please have your Job Seeker ID# and email address information ready. You can also register through JobQuest and then select Cape and Islands Career Center for a list of scheduled workshops. You will need your Job Seeker ID# to register through JobQuest. \nThis workshop is being offered in our computer seminar room\, and participants will have an opportunity to get on-line to try the software programs themselves during the session. \nRegister Now
URL:https://www.masshire-capeandislands.com/event/exploring-your-interests-and-options-recorded-jun-28/
CATEGORIES:Recording
ATTACH;FMTTYPE=image/jpeg:https://www.masshire-capeandislands.com/wp-content/uploads/interests.jpg
END:VEVENT
BEGIN:VEVENT
DTSTART;TZID=America/New_York:20230629T133000
DTEND;TZID=America/New_York:20230629T143000
DTSTAMP:20260425T000234
CREATED:20230522T164826Z
LAST-MODIFIED:20230522T164826Z
UID:35031-1688045400-1688049000@www.masshire-capeandislands.com
SUMMARY:Training and Education Services (Recorded)
DESCRIPTION:If you are unemployed or underemployed and can’t find a job using your current skills\, you may be eligible for free training.  Learn how you can access training and education resources available through the career center. \nRegistration must be completed 24 hours prior to the workshop date. You must have a valid email address to register for any workshop. \nYou may also register for a workshop by calling 508-771-JOBS (5627).  Please have your Job Seeker ID# and email address information ready. You can also register through JobQuest and then select Cape and Islands Career Center for a list of scheduled workshops.  You will need your Job Seeker ID# to register through JobQuest. \nWe recommend that you check your computer power source\, internet connections and audio prior to joining the virtual workshop. Please note that there may be technology programs – either on our end or on yours – due to the high demand for remote services.  We will do our best to present our virtual workshops with as few issues as possible but we will not be able to help troubleshoot issues you may encounter. \nRegister Now
URL:https://www.masshire-capeandislands.com/event/training-and-education-services-recorded-jun-29/
CATEGORIES:Recording
ATTACH;FMTTYPE=image/jpeg:https://www.masshire-capeandislands.com/wp-content/uploads/Event-Training.jpg
END:VEVENT
END:VCALENDAR