BEGIN:VCALENDAR
VERSION:2.0
PRODID:-//MassHire Cape and Islands Career Center - ECPv6.15.20//NONSGML v1.0//EN
CALSCALE:GREGORIAN
METHOD:PUBLISH
X-ORIGINAL-URL:https://www.masshire-capeandislands.com
X-WR-CALDESC:Events for MassHire Cape and Islands Career Center
REFRESH-INTERVAL;VALUE=DURATION:PT1H
X-Robots-Tag:noindex
X-PUBLISHED-TTL:PT1H
BEGIN:VTIMEZONE
TZID:America/New_York
BEGIN:DAYLIGHT
TZOFFSETFROM:-0500
TZOFFSETTO:-0400
TZNAME:EDT
DTSTART:20220313T070000
END:DAYLIGHT
BEGIN:STANDARD
TZOFFSETFROM:-0400
TZOFFSETTO:-0500
TZNAME:EST
DTSTART:20221106T060000
END:STANDARD
BEGIN:DAYLIGHT
TZOFFSETFROM:-0500
TZOFFSETTO:-0400
TZNAME:EDT
DTSTART:20230312T070000
END:DAYLIGHT
BEGIN:STANDARD
TZOFFSETFROM:-0400
TZOFFSETTO:-0500
TZNAME:EST
DTSTART:20231105T060000
END:STANDARD
BEGIN:DAYLIGHT
TZOFFSETFROM:-0500
TZOFFSETTO:-0400
TZNAME:EDT
DTSTART:20240310T070000
END:DAYLIGHT
BEGIN:STANDARD
TZOFFSETFROM:-0400
TZOFFSETTO:-0500
TZNAME:EST
DTSTART:20241103T060000
END:STANDARD
END:VTIMEZONE
BEGIN:VEVENT
DTSTART;TZID=America/New_York:20231002T133000
DTEND;TZID=America/New_York:20231002T143000
DTSTAMP:20260424T185222
CREATED:20230920T205721Z
LAST-MODIFIED:20230920T210743Z
UID:35992-1696253400-1696257000@www.masshire-capeandislands.com
SUMMARY:Effective Negotiation Using LMI (Recorded)
DESCRIPTION:Congratulations! You nailed the interview\, and now the offer is on the table. But is there any room for negotiation? Does this offer sound reasonable based on the job market\, your experience\, and qualifications? Is it comparable to the wages being offered in this market? \nLearn how to effectively use labor market information in your salary negotiation. \nRegistration must be completed 48 hours prior to the workshop date. You must have a valid email address to register for any workshop. \nYou may also register for a workshop by calling 508-771-JOBS (5627).  Please have your Job Seeker ID# and email address information ready. You can also register through JobQuest and then select Cape and Islands Career Center for a list of scheduled workshops.  You will need your Job Seeker ID# to register through JobQuest. \nRegister Now
URL:https://www.masshire-capeandislands.com/event/effective-negotiation-using-lmi-recorded-oct-2/
CATEGORIES:Recording
ATTACH;FMTTYPE=image/jpeg:https://www.masshire-capeandislands.com/wp-content/uploads/Event-SalaryNegotiation.jpg
END:VEVENT
BEGIN:VEVENT
DTSTART;TZID=America/New_York:20231005T133000
DTEND;TZID=America/New_York:20231005T143000
DTSTAMP:20260424T185222
CREATED:20230920T212746Z
LAST-MODIFIED:20230920T212812Z
UID:36012-1696512600-1696516200@www.masshire-capeandislands.com
SUMMARY:Networking in a Virtual World (Recorded)
DESCRIPTION:It’s estimated that as many as 70% of open positions are filled through networking. Get strategies for networking in a virtual world to land your next job. \nRegistration must be completed 48 hours prior to the workshop date. You must have a valid email address to register for any workshop. \nYou may also register for a workshop by calling 508-771-JOBS (5627).  Please have your Job Seeker ID# and email address information ready. You can also register through JobQuest and then select Cape and Islands Career Center for a list of scheduled workshops. You will need your Job Seeker ID# to register through JobQuest. \nIf you are attending a recorded event\, we recommend that you check your computer power source\, internet connections and audio prior to joining the virtual workshop. Please note that there may be technology programs – either on our end or on yours – due to the high demand for remote services.  We will do our best to present our virtual workshops with as few issues as possible\, but we will not be able to help troubleshoot issues you may encounter. \nRegister Now
URL:https://www.masshire-capeandislands.com/event/networking-in-a-virtual-world-recorded-oct-5/
CATEGORIES:Recording
ATTACH;FMTTYPE=image/jpeg:https://www.masshire-capeandislands.com/wp-content/uploads/iStock-1180054313.jpg
END:VEVENT
BEGIN:VEVENT
DTSTART;TZID=America/New_York:20231006T100000
DTEND;TZID=America/New_York:20231006T110000
DTSTAMP:20260424T185222
CREATED:20230920T210358Z
LAST-MODIFIED:20230920T210703Z
UID:35999-1696586400-1696590000@www.masshire-capeandislands.com
SUMMARY:How to Ace Your Interview (Recorded)
DESCRIPTION:Your cover letter and resume are standouts! You’ve been asked to come in for an interview. Now what? Learn tips to help you ace the interview! \nRegistration must be completed 48 hours prior to the workshop date. You must have a valid email address to register for any workshop. \nYou may also register for a workshop by calling 508-771-JOBS (5627).  Please have your Job Seeker ID# and email address information ready. You can also register through  JobQuest and then select Cape and Islands Career Center for a list of scheduled workshops. You will need your Job Seeker ID# to register through JobQuest. \n \nRegister Now
URL:https://www.masshire-capeandislands.com/event/how-to-ace-your-interview-recorded-oct-6/
CATEGORIES:Recording
ATTACH;FMTTYPE=image/jpeg:https://www.masshire-capeandislands.com/wp-content/uploads/Interviewing-Stock-scaled.jpg
END:VEVENT
BEGIN:VEVENT
DTSTART;TZID=America/New_York:20231010T133000
DTEND;TZID=America/New_York:20231010T143000
DTSTAMP:20260424T185222
CREATED:20230920T215252Z
LAST-MODIFIED:20230920T215252Z
UID:36034-1696944600-1696948200@www.masshire-capeandislands.com
SUMMARY:Training and Education Services (Recorded)
DESCRIPTION:If you are unemployed or underemployed and can’t find a job using your current skills\, you may be eligible for free training.  Learn how you can access training and education resources available through the career center. \nRegistration must be completed 24 hours prior to the workshop date. You must have a valid email address to register for any workshop. \nYou may also register for a workshop by calling 508-771-JOBS (5627).  Please have your Job Seeker ID# and email address information ready. You can also register through JobQuest and then select Cape and Islands Career Center for a list of scheduled workshops.  You will need your Job Seeker ID# to register through JobQuest. \nWe recommend that you check your computer power source\, internet connections and audio prior to joining the virtual workshop. Please note that there may be technology programs – either on our end or on yours – due to the high demand for remote services.  We will do our best to present our virtual workshops with as few issues as possible but we will not be able to help troubleshoot issues you may encounter. \nRegister Now
URL:https://www.masshire-capeandislands.com/event/training-and-education-services-recorded-oct-10/
CATEGORIES:Recording
ATTACH;FMTTYPE=image/jpeg:https://www.masshire-capeandislands.com/wp-content/uploads/Event-Training.jpg
END:VEVENT
BEGIN:VEVENT
DTSTART;TZID=America/New_York:20231011T133000
DTEND;TZID=America/New_York:20231011T143000
DTSTAMP:20260424T185222
CREATED:20230920T212855Z
LAST-MODIFIED:20230920T212855Z
UID:36015-1697031000-1697034600@www.masshire-capeandislands.com
SUMMARY:Networking in a Virtual World (Recorded)
DESCRIPTION:It’s estimated that as many as 70% of open positions are filled through networking. Get strategies for networking in a virtual world to land your next job. \nRegistration must be completed 48 hours prior to the workshop date. You must have a valid email address to register for any workshop. \nYou may also register for a workshop by calling 508-771-JOBS (5627).  Please have your Job Seeker ID# and email address information ready. You can also register through JobQuest and then select Cape and Islands Career Center for a list of scheduled workshops. You will need your Job Seeker ID# to register through JobQuest. \nIf you are attending a recorded event\, we recommend that you check your computer power source\, internet connections and audio prior to joining the virtual workshop. Please note that there may be technology programs – either on our end or on yours – due to the high demand for remote services.  We will do our best to present our virtual workshops with as few issues as possible\, but we will not be able to help troubleshoot issues you may encounter. \nRegister Now
URL:https://www.masshire-capeandislands.com/event/networking-in-a-virtual-world-recorded-oct-11/
CATEGORIES:Recording
ATTACH;FMTTYPE=image/jpeg:https://www.masshire-capeandislands.com/wp-content/uploads/iStock-1180054313.jpg
END:VEVENT
BEGIN:VEVENT
DTSTART;TZID=America/New_York:20231013T100000
DTEND;TZID=America/New_York:20231013T110000
DTSTAMP:20260424T185222
CREATED:20230920T203424Z
LAST-MODIFIED:20230920T203601Z
UID:35957-1697191200-1697194800@www.masshire-capeandislands.com
SUMMARY:Career Exploration Using O*NET (Recorded)
DESCRIPTION:A guide to O*NET online set of self-directed career exploration/assessment tools to help you consider and plan career options\, preparation and transitions to new a career that fits your interests and skills. \nRegistration must be completed 48 hours prior to the workshop date. You must have a valid email address to register for any workshop. \nYou may also register for a workshop by calling 508-771-JOBS (5627). Please have your Job Seeker ID# and email address information ready. You can also register through JobQuest and then select Cape and Islands Career Center for a list of scheduled workshops. You will need your Job Seeker ID# to register through JobQuest. \nThis workshop is being offered in our computer seminar room\, and participants will have an opportunity to get online to try the software programs themselves during this session. \nRegister Now
URL:https://www.masshire-capeandislands.com/event/career-exploration-using-onet-recorded-oct-13/
CATEGORIES:Recording
ATTACH;FMTTYPE=image/jpeg:https://www.masshire-capeandislands.com/wp-content/uploads/CareerExploration.jpg
END:VEVENT
BEGIN:VEVENT
DTSTART;TZID=America/New_York:20231016T133000
DTEND;TZID=America/New_York:20231016T133000
DTSTAMP:20260424T185222
CREATED:20230920T210938Z
LAST-MODIFIED:20230920T210938Z
UID:36002-1697463000-1697463000@www.masshire-capeandislands.com
SUMMARY:How to Conduct a Virtual Job Search (Recorded)
DESCRIPTION:Learn about the most popular as well as the more specialized virtual job boards available to help you with your job search. Get tips about how to effectively manage your virtual job alerts and apply for jobs on the spot. \nRegistration must be completed 24 hours prior to the workshop date. You must have a valid email address to register for any workshop. \nYou may also register for a workshop by calling 508-771-JOBS (5627). Please have your Job Seeker ID# and email address information ready. You can also register through JobQuest and then select Cape and Islands Career Center for a list of scheduled workshops. You will need your Job Seeker ID# to register through JobQuest. \nWe recommend that you check your computer power source\, internet connections and audio prior to joining the virtual workshop. Please note that there may be technology programs – either on our end or on yours – due to the high demand for remote services. We will do our best to present our virtual workshops with as few issues as possible but we will not be able to help troubleshoot issues you may encounter. \nRegister Now
URL:https://www.masshire-capeandislands.com/event/how-to-conduct-a-virtual-job-search-recorded-oct-16/
CATEGORIES:Recording
ATTACH;FMTTYPE=image/jpeg:https://www.masshire-capeandislands.com/wp-content/uploads/Event-JobSearch.jpg
END:VEVENT
BEGIN:VEVENT
DTSTART;TZID=America/New_York:20231018T133000
DTEND;TZID=America/New_York:20231018T143000
DTSTAMP:20260424T185222
CREATED:20230920T215051Z
LAST-MODIFIED:20230920T215051Z
UID:36032-1697635800-1697639400@www.masshire-capeandislands.com
SUMMARY:TORQ Your Transferrable Skills (Recorded)
DESCRIPTION:TORQ is a tool to help you examine how well your skills and capabilities transfer to various occupations.  Learn how to calculate your TORQ Score to determine how ready you are to perform a different career. \nRegistration must be completed 48 hours prior to the workshop date. You must have a valid email address to register for any workshop. \nYou may also register for a workshop by calling 508-771-JOBS (5627).  Please have your Job Seeker ID# and email address information ready. You can also register through JobQuest and then select Cape and Islands Career Center for a list of scheduled workshops.  You will need your Job Seeker ID# to register through JobQuest. \n  \nRegister Now
URL:https://www.masshire-capeandislands.com/event/torq-your-transferrable-skills-recorded-oct-18/
CATEGORIES:Recording
ATTACH;FMTTYPE=image/jpeg:https://www.masshire-capeandislands.com/wp-content/uploads/Event-TORQ.jpg
END:VEVENT
BEGIN:VEVENT
DTSTART;TZID=America/New_York:20231020T100000
DTEND;TZID=America/New_York:20231020T110000
DTSTAMP:20260424T185222
CREATED:20230920T205913Z
LAST-MODIFIED:20230920T210611Z
UID:35994-1697796000-1697799600@www.masshire-capeandislands.com
SUMMARY:Exploring Your Interests and Options (Recorded)
DESCRIPTION:Are you looking for a new direction? Not sure of what jobs would be a good fit? Using 2 assessments\, you can identify jobs that would be a good fit for your interests and personality. \nRegistration must be completed 48 hours prior to the workshop date. You must have a valid email address to register for any workshop. \nYou may also register for a workshop by calling 508-771-JOBS (5627). Please have your Job Seeker ID# and email address information ready. You can also register through JobQuest and then select Cape and Islands Career Center for a list of scheduled workshops. You will need your Job Seeker ID# to register through JobQuest. \nThis workshop is being offered in our computer seminar room\, and participants will have an opportunity to get on-line to try the software programs themselves during the session. \nRegister Now
URL:https://www.masshire-capeandislands.com/event/exploring-your-interests-and-options-recorded-oct-20/
CATEGORIES:Recording
ATTACH;FMTTYPE=image/jpeg:https://www.masshire-capeandislands.com/wp-content/uploads/interests.jpg
END:VEVENT
BEGIN:VEVENT
DTSTART;TZID=America/New_York:20231024T133000
DTEND;TZID=America/New_York:20231024T143000
DTSTAMP:20260424T185222
CREATED:20230920T210030Z
LAST-MODIFIED:20230920T210533Z
UID:35996-1698154200-1698157800@www.masshire-capeandislands.com
SUMMARY:Exploring Your Interests and Options (Recorded)
DESCRIPTION:Are you looking for a new direction? Not sure of what jobs would be a good fit? Using 2 assessments\, you can identify jobs that would be a good fit for your interests and personality. \nRegistration must be completed 48 hours prior to the workshop date. You must have a valid email address to register for any workshop. \nYou may also register for a workshop by calling 508-771-JOBS (5627). Please have your Job Seeker ID# and email address information ready. You can also register through JobQuest and then select Cape and Islands Career Center for a list of scheduled workshops. You will need your Job Seeker ID# to register through JobQuest. \nThis workshop is being offered in our computer seminar room\, and participants will have an opportunity to get on-line to try the software programs themselves during the session. \nRegister Now
URL:https://www.masshire-capeandislands.com/event/exploring-your-interests-and-options-recorded-oct-24/
CATEGORIES:Recording
ATTACH;FMTTYPE=image/jpeg:https://www.masshire-capeandislands.com/wp-content/uploads/interests.jpg
END:VEVENT
BEGIN:VEVENT
DTSTART;TZID=America/New_York:20231025T133000
DTEND;TZID=America/New_York:20231025T143000
DTSTAMP:20260424T185222
CREATED:20230920T212913Z
LAST-MODIFIED:20230920T212913Z
UID:36016-1698240600-1698244200@www.masshire-capeandislands.com
SUMMARY:Networking in a Virtual World (Recorded)
DESCRIPTION:It’s estimated that as many as 70% of open positions are filled through networking. Get strategies for networking in a virtual world to land your next job. \nRegistration must be completed 48 hours prior to the workshop date. You must have a valid email address to register for any workshop. \nYou may also register for a workshop by calling 508-771-JOBS (5627).  Please have your Job Seeker ID# and email address information ready. You can also register through JobQuest and then select Cape and Islands Career Center for a list of scheduled workshops. You will need your Job Seeker ID# to register through JobQuest. \nIf you are attending a recorded event\, we recommend that you check your computer power source\, internet connections and audio prior to joining the virtual workshop. Please note that there may be technology programs – either on our end or on yours – due to the high demand for remote services.  We will do our best to present our virtual workshops with as few issues as possible\, but we will not be able to help troubleshoot issues you may encounter. \nRegister Now
URL:https://www.masshire-capeandislands.com/event/networking-in-a-virtual-world-recorded-oct-25/
CATEGORIES:Recording
ATTACH;FMTTYPE=image/jpeg:https://www.masshire-capeandislands.com/wp-content/uploads/iStock-1180054313.jpg
END:VEVENT
BEGIN:VEVENT
DTSTART;TZID=America/New_York:20231026T133000
DTEND;TZID=America/New_York:20231026T143000
DTSTAMP:20260424T185222
CREATED:20230920T213816Z
LAST-MODIFIED:20230920T213816Z
UID:36019-1698327000-1698330600@www.masshire-capeandislands.com
SUMMARY:Online Applications and Tests (Recorded)
DESCRIPTION:Registration must be completed 48 hours prior to the workshop date. You must have a valid email address to register for any workshop. \nYou may also register for a workshop by calling 508-771-JOBS (5627). Please have your Job Seeker ID# and email address information ready. You can also register through JobQuest and then select Cape and Islands Career Center for a list of scheduled workshops. You will need your Job Seeker ID# to register through JobQuest. \nThis workshop is being offered in our computer seminar room\, and participants will have an opportunity to get online to try the software programs themselves during this session. \nRegister Now
URL:https://www.masshire-capeandislands.com/event/online-applications-and-tests-recorded-oct-26/
CATEGORIES:Recording
END:VEVENT
BEGIN:VEVENT
DTSTART;TZID=America/New_York:20231027T100000
DTEND;TZID=America/New_York:20231027T110000
DTSTAMP:20260424T185222
CREATED:20230920T211834Z
LAST-MODIFIED:20230920T211923Z
UID:36006-1698400800-1698404400@www.masshire-capeandislands.com
SUMMARY:LinkedIn to Optimize Your Job Search (Recorded)
DESCRIPTION:LinkedIn is a powerful tool for any job seeker. In addition to show you how to set up your LinkedIn profile\, this workshop will explain how to effectively manage your LinkedIn network\, as well as search and apply to jobs through LinkedIn. \nRegistration must be completed 48 hours prior to the workshop date. You must have a valid email address to register for any workshop. \nYou may also register for a workshop by calling 508-771-JOBS (5627). Please have your Job Seeker ID# and email address information ready. You can also register through JobQuest and then select Cape and Islands Career Center for a list of scheduled workshops. You will need your Job Seeker ID# to register through JobQuest. \nRegister Now
URL:https://www.masshire-capeandislands.com/event/linkedin-to-optimize-your-job-search-recorded-oct-27/
CATEGORIES:Recording
ATTACH;FMTTYPE=image/jpeg:https://www.masshire-capeandislands.com/wp-content/uploads/Event-LinkedIn.jpg
END:VEVENT
BEGIN:VEVENT
DTSTART;TZID=America/New_York:20231030T133000
DTEND;TZID=America/New_York:20231030T143000
DTSTAMP:20260424T185222
CREATED:20230920T215331Z
LAST-MODIFIED:20240319T202756Z
UID:36036-1698672600-1698676200@www.masshire-capeandislands.com
SUMMARY:Training and Education Services (Recorded)
DESCRIPTION:If you are unemployed or underemployed and can’t find a job using your current skills\, you may be eligible for free training.  Learn how you can access training and education resources available through the career center. \nRegistration must be completed 24 hours prior to the workshop date. You must have a valid email address to register for any workshop. \nYou may also register for a workshop by calling 508-771-JOBS (5627).  Please have your Job Seeker ID# and email address information ready. You can also register through JobQuest and then select Cape and Islands Career Center for a list of scheduled workshops.  You will need your Job Seeker ID# to register through JobQuest. \nWe recommend that you check your computer power source\, internet connections and audio prior to joining the virtual workshop. Please note that there may be technology programs – either on our end or on yours – due to the high demand for remote services.  We will do our best to present our virtual workshops with as few issues as possible but we will not be able to help troubleshoot issues you may encounter. \nRegister Now
URL:https://www.masshire-capeandislands.com/event/training-and-education-services-recorded-oct-30/
CATEGORIES:Recording
ATTACH;FMTTYPE=image/jpeg:https://www.masshire-capeandislands.com/wp-content/uploads/Event-Training.jpg
END:VEVENT
END:VCALENDAR