BEGIN:VCALENDAR
VERSION:2.0
PRODID:-//MassHire Cape and Islands Career Center - ECPv6.15.20//NONSGML v1.0//EN
CALSCALE:GREGORIAN
METHOD:PUBLISH
X-WR-CALNAME:MassHire Cape and Islands Career Center
X-ORIGINAL-URL:https://www.masshire-capeandislands.com
X-WR-CALDESC:Events for MassHire Cape and Islands Career Center
REFRESH-INTERVAL;VALUE=DURATION:PT1H
X-Robots-Tag:noindex
X-PUBLISHED-TTL:PT1H
BEGIN:VTIMEZONE
TZID:America/New_York
BEGIN:DAYLIGHT
TZOFFSETFROM:-0500
TZOFFSETTO:-0400
TZNAME:EDT
DTSTART:20220313T070000
END:DAYLIGHT
BEGIN:STANDARD
TZOFFSETFROM:-0400
TZOFFSETTO:-0500
TZNAME:EST
DTSTART:20221106T060000
END:STANDARD
BEGIN:DAYLIGHT
TZOFFSETFROM:-0500
TZOFFSETTO:-0400
TZNAME:EDT
DTSTART:20230312T070000
END:DAYLIGHT
BEGIN:STANDARD
TZOFFSETFROM:-0400
TZOFFSETTO:-0500
TZNAME:EST
DTSTART:20231105T060000
END:STANDARD
BEGIN:DAYLIGHT
TZOFFSETFROM:-0500
TZOFFSETTO:-0400
TZNAME:EDT
DTSTART:20240310T070000
END:DAYLIGHT
BEGIN:STANDARD
TZOFFSETFROM:-0400
TZOFFSETTO:-0500
TZNAME:EST
DTSTART:20241103T060000
END:STANDARD
END:VTIMEZONE
BEGIN:VEVENT
DTSTART;TZID=America/New_York:20231101T133000
DTEND;TZID=America/New_York:20231101T143000
DTSTAMP:20260424T174213
CREATED:20231020T194351Z
LAST-MODIFIED:20231020T194351Z
UID:36175-1698845400-1698849000@www.masshire-capeandislands.com
SUMMARY:Networking in a Virtual World (Recorded)
DESCRIPTION:It’s estimated that as many as 70% of open positions are filled through networking. Get strategies for networking in a virtual world to land your next job. \nRegistration must be completed 48 hours prior to the workshop date. You must have a valid email address to register for any workshop. \nYou may also register for a workshop by calling 508-771-JOBS (5627).  Please have your Job Seeker ID# and email address information ready. You can also register through JobQuest and then select Cape and Islands Career Center for a list of scheduled workshops. You will need your Job Seeker ID# to register through JobQuest. \nIf you are attending a recorded event\, we recommend that you check your computer power source\, internet connections and audio prior to joining the virtual workshop. Please note that there may be technology programs – either on our end or on yours – due to the high demand for remote services.  We will do our best to present our virtual workshops with as few issues as possible\, but we will not be able to help troubleshoot issues you may encounter. \nRegister Now
URL:https://www.masshire-capeandislands.com/event/networking-in-a-virtual-world-recorded-nov-1/
CATEGORIES:Recording
ATTACH;FMTTYPE=image/jpeg:https://www.masshire-capeandislands.com/wp-content/uploads/iStock-1180054313.jpg
END:VEVENT
BEGIN:VEVENT
DTSTART;TZID=America/New_York:20231106T133000
DTEND;TZID=America/New_York:20231106T143000
DTSTAMP:20260424T174213
CREATED:20231020T192704Z
LAST-MODIFIED:20231020T192704Z
UID:36154-1699277400-1699281000@www.masshire-capeandislands.com
SUMMARY:Effective Negotiation Using LMI (Recorded)
DESCRIPTION:Congratulations! You nailed the interview\, and now the offer is on the table. But is there any room for negotiation? Does this offer sound reasonable based on the job market\, your experience\, and qualifications? Is it comparable to the wages being offered in this market? \nLearn how to effectively use labor market information in your salary negotiation. \nRegistration must be completed 48 hours prior to the workshop date. You must have a valid email address to register for any workshop. \nYou may also register for a workshop by calling 508-771-JOBS (5627).  Please have your Job Seeker ID# and email address information ready. You can also register through JobQuest and then select Cape and Islands Career Center for a list of scheduled workshops.  You will need your Job Seeker ID# to register through JobQuest. \nRegister Now
URL:https://www.masshire-capeandislands.com/event/effective-negotiation-using-lmi-recorded-nov-6/
CATEGORIES:Recording
ATTACH;FMTTYPE=image/jpeg:https://www.masshire-capeandislands.com/wp-content/uploads/Event-SalaryNegotiation.jpg
END:VEVENT
BEGIN:VEVENT
DTSTART;TZID=America/New_York:20231107T133000
DTEND;TZID=America/New_York:20231107T143000
DTSTAMP:20260424T174213
CREATED:20231020T195301Z
LAST-MODIFIED:20231020T195301Z
UID:36191-1699363800-1699367400@www.masshire-capeandislands.com
SUMMARY:Training and Education Services (Recorded)
DESCRIPTION:If you are unemployed or underemployed and can’t find a job using your current skills\, you may be eligible for free training.  Learn how you can access training and education resources available through the career center. \nRegistration must be completed 24 hours prior to the workshop date. You must have a valid email address to register for any workshop. \nYou may also register for a workshop by calling 508-771-JOBS (5627).  Please have your Job Seeker ID# and email address information ready. You can also register through JobQuest and then select Cape and Islands Career Center for a list of scheduled workshops.  You will need your Job Seeker ID# to register through JobQuest. \nWe recommend that you check your computer power source\, internet connections and audio prior to joining the virtual workshop. Please note that there may be technology programs – either on our end or on yours – due to the high demand for remote services.  We will do our best to present our virtual workshops with as few issues as possible but we will not be able to help troubleshoot issues you may encounter. \nRegister Now
URL:https://www.masshire-capeandislands.com/event/training-and-education-services-recorded-nov-7/
CATEGORIES:Recording
ATTACH;FMTTYPE=image/jpeg:https://www.masshire-capeandislands.com/wp-content/uploads/Event-Training.jpg
END:VEVENT
BEGIN:VEVENT
DTSTART;TZID=America/New_York:20231108T133000
DTEND;TZID=America/New_York:20231108T133000
DTSTAMP:20260424T174213
CREATED:20231020T193630Z
LAST-MODIFIED:20231020T193630Z
UID:36165-1699450200-1699450200@www.masshire-capeandislands.com
SUMMARY:How to Conduct a Virtual Job Search (Recorded)
DESCRIPTION:Learn about the most popular as well as the more specialized virtual job boards available to help you with your job search. Get tips about how to effectively manage your virtual job alerts and apply for jobs on the spot. \nRegistration must be completed 24 hours prior to the workshop date. You must have a valid email address to register for any workshop. \nYou may also register for a workshop by calling 508-771-JOBS (5627). Please have your Job Seeker ID# and email address information ready. You can also register through JobQuest and then select Cape and Islands Career Center for a list of scheduled workshops. You will need your Job Seeker ID# to register through JobQuest. \nWe recommend that you check your computer power source\, internet connections and audio prior to joining the virtual workshop. Please note that there may be technology programs – either on our end or on yours – due to the high demand for remote services. We will do our best to present our virtual workshops with as few issues as possible but we will not be able to help troubleshoot issues you may encounter. \nRegister Now
URL:https://www.masshire-capeandislands.com/event/how-to-conduct-a-virtual-job-search-recorded-nov-8/
CATEGORIES:Recording
ATTACH;FMTTYPE=image/jpeg:https://www.masshire-capeandislands.com/wp-content/uploads/Event-JobSearch.jpg
END:VEVENT
BEGIN:VEVENT
DTSTART;TZID=America/New_York:20231113T133000
DTEND;TZID=America/New_York:20231113T133000
DTSTAMP:20260424T174213
CREATED:20231020T193715Z
LAST-MODIFIED:20231020T193715Z
UID:36167-1699882200-1699882200@www.masshire-capeandislands.com
SUMMARY:How to Conduct a Virtual Job Search (Recorded)
DESCRIPTION:Learn about the most popular as well as the more specialized virtual job boards available to help you with your job search. Get tips about how to effectively manage your virtual job alerts and apply for jobs on the spot. \nRegistration must be completed 24 hours prior to the workshop date. You must have a valid email address to register for any workshop. \nYou may also register for a workshop by calling 508-771-JOBS (5627). Please have your Job Seeker ID# and email address information ready. You can also register through JobQuest and then select Cape and Islands Career Center for a list of scheduled workshops. You will need your Job Seeker ID# to register through JobQuest. \nWe recommend that you check your computer power source\, internet connections and audio prior to joining the virtual workshop. Please note that there may be technology programs – either on our end or on yours – due to the high demand for remote services. We will do our best to present our virtual workshops with as few issues as possible but we will not be able to help troubleshoot issues you may encounter. \nRegister Now
URL:https://www.masshire-capeandislands.com/event/how-to-conduct-a-virtual-job-search-recorded-nov-13/
CATEGORIES:Recording
ATTACH;FMTTYPE=image/jpeg:https://www.masshire-capeandislands.com/wp-content/uploads/Event-JobSearch.jpg
END:VEVENT
BEGIN:VEVENT
DTSTART;TZID=America/New_York:20231115T100000
DTEND;TZID=America/New_York:20231115T110000
DTSTAMP:20260424T174213
CREATED:20231020T191749Z
LAST-MODIFIED:20231020T191749Z
UID:36140-1700042400-1700046000@www.masshire-capeandislands.com
SUMMARY:Career Exploration Using O*NET (Recorded)
DESCRIPTION:A guide to O*NET online set of self-directed career exploration/assessment tools to help you consider and plan career options\, preparation and transitions to new a career that fits your interests and skills. \nRegistration must be completed 48 hours prior to the workshop date. You must have a valid email address to register for any workshop. \nYou may also register for a workshop by calling 508-771-JOBS (5627). Please have your Job Seeker ID# and email address information ready. You can also register through JobQuest and then select Cape and Islands Career Center for a list of scheduled workshops. You will need your Job Seeker ID# to register through JobQuest. \nThis workshop is being offered in our computer seminar room\, and participants will have an opportunity to get online to try the software programs themselves during this session. \nRegister Now
URL:https://www.masshire-capeandislands.com/event/career-exploration-using-onet-recorded-nov-15/
CATEGORIES:Recording
ATTACH;FMTTYPE=image/jpeg:https://www.masshire-capeandislands.com/wp-content/uploads/CareerExploration.jpg
END:VEVENT
BEGIN:VEVENT
DTSTART;TZID=America/New_York:20231115T133000
DTEND;TZID=America/New_York:20231115T143000
DTSTAMP:20260424T174213
CREATED:20231020T202422Z
LAST-MODIFIED:20231020T202422Z
UID:36195-1700055000-1700058600@www.masshire-capeandislands.com
SUMMARY:TORQ Your Transferrable Skills (Recorded)
DESCRIPTION:TORQ is a tool to help you examine how well your skills and capabilities transfer to various occupations.  Learn how to calculate your TORQ Score to determine how ready you are to perform a different career. \nRegistration must be completed 48 hours prior to the workshop date. You must have a valid email address to register for any workshop. \nYou may also register for a workshop by calling 508-771-JOBS (5627).  Please have your Job Seeker ID# and email address information ready. You can also register through JobQuest and then select Cape and Islands Career Center for a list of scheduled workshops.  You will need your Job Seeker ID# to register through JobQuest. \n  \nRegister Now
URL:https://www.masshire-capeandislands.com/event/torq-your-transferrable-skills-recorded-nov-15/
CATEGORIES:Recording
ATTACH;FMTTYPE=image/jpeg:https://www.masshire-capeandislands.com/wp-content/uploads/Event-TORQ.jpg
END:VEVENT
BEGIN:VEVENT
DTSTART;TZID=America/New_York:20231117T100000
DTEND;TZID=America/New_York:20231117T110000
DTSTAMP:20260424T174213
CREATED:20231020T192848Z
LAST-MODIFIED:20231020T193058Z
UID:36157-1700215200-1700218800@www.masshire-capeandislands.com
SUMMARY:Exploring Your Interests and Options (Recorded)
DESCRIPTION:Are you looking for a new direction? Not sure of what jobs would be a good fit? Using 2 assessments\, you can identify jobs that would be a good fit for your interests and personality. \nRegistration must be completed 48 hours prior to the workshop date. You must have a valid email address to register for any workshop. \nYou may also register for a workshop by calling 508-771-JOBS (5627). Please have your Job Seeker ID# and email address information ready. You can also register through JobQuest and then select Cape and Islands Career Center for a list of scheduled workshops. You will need your Job Seeker ID# to register through JobQuest. \nThis workshop is being offered in our computer seminar room\, and participants will have an opportunity to get on-line to try the software programs themselves during the session. \nRegister Now
URL:https://www.masshire-capeandislands.com/event/exploring-your-interests-and-options-recorded-nov-17/
CATEGORIES:Recording
ATTACH;FMTTYPE=image/jpeg:https://www.masshire-capeandislands.com/wp-content/uploads/interests.jpg
END:VEVENT
BEGIN:VEVENT
DTSTART;TZID=America/New_York:20231121T133000
DTEND;TZID=America/New_York:20231121T143000
DTSTAMP:20260424T174213
CREATED:20231020T193007Z
LAST-MODIFIED:20231020T193007Z
UID:36159-1700573400-1700577000@www.masshire-capeandislands.com
SUMMARY:Exploring Your Interests and Options (Recorded)
DESCRIPTION:Are you looking for a new direction? Not sure of what jobs would be a good fit? Using 2 assessments\, you can identify jobs that would be a good fit for your interests and personality. \nRegistration must be completed 48 hours prior to the workshop date. You must have a valid email address to register for any workshop. \nYou may also register for a workshop by calling 508-771-JOBS (5627). Please have your Job Seeker ID# and email address information ready. You can also register through JobQuest and then select Cape and Islands Career Center for a list of scheduled workshops. You will need your Job Seeker ID# to register through JobQuest. \nThis workshop is being offered in our computer seminar room\, and participants will have an opportunity to get on-line to try the software programs themselves during the session. \nRegister Now
URL:https://www.masshire-capeandislands.com/event/exploring-your-interests-and-options-recorded-nov-21/
CATEGORIES:Recording
ATTACH;FMTTYPE=image/jpeg:https://www.masshire-capeandislands.com/wp-content/uploads/interests.jpg
END:VEVENT
BEGIN:VEVENT
DTSTART;TZID=America/New_York:20231122T093000
DTEND;TZID=America/New_York:20231122T103000
DTSTAMP:20260424T174213
CREATED:20231020T195047Z
LAST-MODIFIED:20231020T195047Z
UID:36184-1700645400-1700649000@www.masshire-capeandislands.com
SUMMARY:Resumes That Work (Recorded)
DESCRIPTION:Having a great resume you can email or send to employers is a necessity in today’s competitive job market. Learn how to create a resume that will help you get an interview! \nRegistration must be completed 48 hours prior to the workshop date. You must have a valid email address to register for any workshop. \nYou may also register for a workshop by calling 508-771-JOBS (5627). Please have your Job Seeker ID# and email address information ready. You can also register through JobQuest and then select Cape and Islands Career Center for a list of scheduled workshops. You will need your Job Seeker ID# to register through JobQuest. \nRegister Now
URL:https://www.masshire-capeandislands.com/event/resumes-that-work-nov-22/
CATEGORIES:Recording
ATTACH;FMTTYPE=image/jpeg:https://www.masshire-capeandislands.com/wp-content/uploads/resume.jpg
END:VEVENT
BEGIN:VEVENT
DTSTART;TZID=America/New_York:20231122T133000
DTEND;TZID=America/New_York:20231122T143000
DTSTAMP:20260424T174213
CREATED:20231020T194445Z
LAST-MODIFIED:20231020T194445Z
UID:36177-1700659800-1700663400@www.masshire-capeandislands.com
SUMMARY:Networking in a Virtual World (Recorded)
DESCRIPTION:It’s estimated that as many as 70% of open positions are filled through networking. Get strategies for networking in a virtual world to land your next job. \nRegistration must be completed 48 hours prior to the workshop date. You must have a valid email address to register for any workshop. \nYou may also register for a workshop by calling 508-771-JOBS (5627).  Please have your Job Seeker ID# and email address information ready. You can also register through JobQuest and then select Cape and Islands Career Center for a list of scheduled workshops. You will need your Job Seeker ID# to register through JobQuest. \nIf you are attending a recorded event\, we recommend that you check your computer power source\, internet connections and audio prior to joining the virtual workshop. Please note that there may be technology programs – either on our end or on yours – due to the high demand for remote services.  We will do our best to present our virtual workshops with as few issues as possible\, but we will not be able to help troubleshoot issues you may encounter. \nRegister Now
URL:https://www.masshire-capeandislands.com/event/networking-in-a-virtual-world-recorded-nov-22/
CATEGORIES:Recording
ATTACH;FMTTYPE=image/jpeg:https://www.masshire-capeandislands.com/wp-content/uploads/iStock-1180054313.jpg
END:VEVENT
BEGIN:VEVENT
DTSTART;TZID=America/New_York:20231127T130000
DTEND;TZID=America/New_York:20231127T140000
DTSTAMP:20260424T174213
CREATED:20231020T195407Z
LAST-MODIFIED:20231020T195407Z
UID:36193-1701090000-1701093600@www.masshire-capeandislands.com
SUMMARY:Training and Education Services (Recorded)
DESCRIPTION:If you are unemployed or underemployed and can’t find a job using your current skills\, you may be eligible for free training.  Learn how you can access training and education resources available through the career center. \nRegistration must be completed 24 hours prior to the workshop date. You must have a valid email address to register for any workshop. \nYou may also register for a workshop by calling 508-771-JOBS (5627).  Please have your Job Seeker ID# and email address information ready. You can also register through JobQuest and then select Cape and Islands Career Center for a list of scheduled workshops.  You will need your Job Seeker ID# to register through JobQuest. \nWe recommend that you check your computer power source\, internet connections and audio prior to joining the virtual workshop. Please note that there may be technology programs – either on our end or on yours – due to the high demand for remote services.  We will do our best to present our virtual workshops with as few issues as possible but we will not be able to help troubleshoot issues you may encounter. \nRegister Now
URL:https://www.masshire-capeandislands.com/event/training-and-education-services-recorded-nov-27/
CATEGORIES:Recording
ATTACH;FMTTYPE=image/jpeg:https://www.masshire-capeandislands.com/wp-content/uploads/Event-Training.jpg
END:VEVENT
BEGIN:VEVENT
DTSTART;TZID=America/New_York:20231128T133000
DTEND;TZID=America/New_York:20231128T143000
DTSTAMP:20260424T174213
CREATED:20231020T195113Z
LAST-MODIFIED:20231020T195113Z
UID:36185-1701178200-1701181800@www.masshire-capeandislands.com
SUMMARY:Resumes That Work (Recorded)
DESCRIPTION:Having a great resume you can email or send to employers is a necessity in today’s competitive job market. Learn how to create a resume that will help you get an interview! \nRegistration must be completed 48 hours prior to the workshop date. You must have a valid email address to register for any workshop. \nYou may also register for a workshop by calling 508-771-JOBS (5627). Please have your Job Seeker ID# and email address information ready. You can also register through JobQuest and then select Cape and Islands Career Center for a list of scheduled workshops. You will need your Job Seeker ID# to register through JobQuest. \nRegister Now
URL:https://www.masshire-capeandislands.com/event/resumes-that-work-nov-28/
CATEGORIES:Recording
ATTACH;FMTTYPE=image/jpeg:https://www.masshire-capeandislands.com/wp-content/uploads/resume.jpg
END:VEVENT
BEGIN:VEVENT
DTSTART;TZID=America/New_York:20231129T133000
DTEND;TZID=America/New_York:20231129T143000
DTSTAMP:20260424T174213
CREATED:20231020T194622Z
LAST-MODIFIED:20231020T194622Z
UID:36179-1701264600-1701268200@www.masshire-capeandislands.com
SUMMARY:Online Applications and Tests (Recorded)
DESCRIPTION:Registration must be completed 48 hours prior to the workshop date. You must have a valid email address to register for any workshop. \nYou may also register for a workshop by calling 508-771-JOBS (5627). Please have your Job Seeker ID# and email address information ready. You can also register through JobQuest and then select Cape and Islands Career Center for a list of scheduled workshops. You will need your Job Seeker ID# to register through JobQuest. \nThis workshop is being offered in our computer seminar room\, and participants will have an opportunity to get online to try the software programs themselves during this session. \nRegister Now
URL:https://www.masshire-capeandislands.com/event/online-applications-and-tests-recorded-nov-29/
CATEGORIES:Recording
END:VEVENT
END:VCALENDAR