BEGIN:VCALENDAR
VERSION:2.0
PRODID:-//MassHire Cape and Islands Career Center - ECPv6.15.20//NONSGML v1.0//EN
CALSCALE:GREGORIAN
METHOD:PUBLISH
X-WR-CALNAME:MassHire Cape and Islands Career Center
X-ORIGINAL-URL:https://www.masshire-capeandislands.com
X-WR-CALDESC:Events for MassHire Cape and Islands Career Center
REFRESH-INTERVAL;VALUE=DURATION:PT1H
X-Robots-Tag:noindex
X-PUBLISHED-TTL:PT1H
BEGIN:VTIMEZONE
TZID:America/New_York
BEGIN:DAYLIGHT
TZOFFSETFROM:-0500
TZOFFSETTO:-0400
TZNAME:EDT
DTSTART:20230312T070000
END:DAYLIGHT
BEGIN:STANDARD
TZOFFSETFROM:-0400
TZOFFSETTO:-0500
TZNAME:EST
DTSTART:20231105T060000
END:STANDARD
BEGIN:DAYLIGHT
TZOFFSETFROM:-0500
TZOFFSETTO:-0400
TZNAME:EDT
DTSTART:20240310T070000
END:DAYLIGHT
BEGIN:STANDARD
TZOFFSETFROM:-0400
TZOFFSETTO:-0500
TZNAME:EST
DTSTART:20241103T060000
END:STANDARD
BEGIN:DAYLIGHT
TZOFFSETFROM:-0500
TZOFFSETTO:-0400
TZNAME:EDT
DTSTART:20250309T070000
END:DAYLIGHT
BEGIN:STANDARD
TZOFFSETFROM:-0400
TZOFFSETTO:-0500
TZNAME:EST
DTSTART:20251102T060000
END:STANDARD
END:VTIMEZONE
BEGIN:VEVENT
DTSTART;TZID=America/New_York:20240903T133000
DTEND;TZID=America/New_York:20240903T143000
DTSTAMP:20260420T165912
CREATED:20240826T214118Z
LAST-MODIFIED:20240826T214144Z
UID:37949-1725370200-1725373800@www.masshire-capeandislands.com
SUMMARY:Networking in a Virtual World - Recorded
DESCRIPTION:It’s estimated that as many as 70% of open positions are filled through networking. Get strategies for networking in a virtual world to land your next job. \nRegistration must be completed 48 hours prior to the workshop date. You must have a valid email address to register for any workshop. \nYou may also register for a workshop by calling 508-771-JOBS (5627).  Please have your Job Seeker ID# and email address information ready. You can also register through JobQuest and then select Cape and Islands Career Center for a list of scheduled workshops. You will need your Job Seeker ID# to register through JobQuest. \nIf you are attending a recorded event\, we recommend that you check your computer power source\, internet connections and audio prior to joining the virtual workshop. Please note that there may be technology programs – either on our end or on yours – due to the high demand for remote services.  We will do our best to present our virtual workshops with as few issues as possible\, but we will not be able to help troubleshoot issues you may encounter. \nRegister Now
URL:https://www.masshire-capeandislands.com/event/networking-in-a-virtual-world-recorded-sep-3/
CATEGORIES:Recording
END:VEVENT
BEGIN:VEVENT
DTSTART;TZID=America/New_York:20240904T093000
DTEND;TZID=America/New_York:20240904T103000
DTSTAMP:20260420T165912
CREATED:20240826T214459Z
LAST-MODIFIED:20240826T214723Z
UID:37955-1725442200-1725445800@www.masshire-capeandislands.com
SUMMARY:Online Applications and Tests - Recorded
DESCRIPTION:Registration must be completed 48 hours prior to the workshop date. You must have a valid email address to register for any workshop. \nYou may also register for a workshop by calling 508-771-JOBS (5627). Please have your Job Seeker ID# and email address information ready. You can also register through JobQuest and then select Cape and Islands Career Center for a list of scheduled workshops. You will need your Job Seeker ID# to register through JobQuest. \n \nRegister Now
URL:https://www.masshire-capeandislands.com/event/online-applications-and-tests-recorded-sep-4/
CATEGORIES:Recording
END:VEVENT
BEGIN:VEVENT
DTSTART;TZID=America/New_York:20240905T100000
DTEND;TZID=America/New_York:20240905T110000
DTSTAMP:20260420T165912
CREATED:20240826T215614Z
LAST-MODIFIED:20240826T215728Z
UID:37971-1725530400-1725534000@www.masshire-capeandislands.com
SUMMARY:Training and Education Services - Recorded
DESCRIPTION:If you are unemployed or underemployed and can’t find a job using your current skills\, you may be eligible for free training.  Learn how you can access training and education resources available through the career center. \nRegistration must be completed 24 hours prior to the workshop date. You must have a valid email address to register for any workshop. \nYou may also register for a workshop by calling 508-771-JOBS (5627).  Please have your Job Seeker ID# and email address information ready. You can also register through JobQuest and then select Cape and Islands Career Center for a list of scheduled workshops.  You will need your Job Seeker ID# to register through JobQuest. \nRegister Now
URL:https://www.masshire-capeandislands.com/event/training-and-education-services-recorded-sep-5/
CATEGORIES:Recording
END:VEVENT
BEGIN:VEVENT
DTSTART;TZID=America/New_York:20240906T100000
DTEND;TZID=America/New_York:20240906T110000
DTSTAMP:20260420T165912
CREATED:20240826T201234Z
LAST-MODIFIED:20240826T201846Z
UID:37917-1725616800-1725620400@www.masshire-capeandislands.com
SUMMARY:Career Exploration Using O*NET – Recorded
DESCRIPTION:A guide to O*NET online set of self-directed career exploration/assessment tools to help you consider and plan career options\, preparation and transitions to new a career that fits your interests and skills. \nRegistration must be completed 48 hours prior to the workshop date. You must have a valid email address to register for any workshop. \nYou may also register for a workshop by calling 508-771-JOBS (5627). Please have your Job Seeker ID# and email address information ready. You can also register through JobQuest and then select Cape and Islands Career Center for a list of scheduled workshops. You will need your Job Seeker ID# to register through JobQuest. \n \nRegister Now
URL:https://www.masshire-capeandislands.com/event/career-exploration-using-onet-recorded-sep-6/
CATEGORIES:Recording
END:VEVENT
BEGIN:VEVENT
DTSTART;TZID=America/New_York:20240913T100000
DTEND;TZID=America/New_York:20240913T110000
DTSTAMP:20260420T165912
CREATED:20240826T203431Z
LAST-MODIFIED:20240826T203754Z
UID:37931-1726221600-1726225200@www.masshire-capeandislands.com
SUMMARY:Exploring Your Interests and Options – Recorded
DESCRIPTION:Are you looking for a new direction? Not sure of what jobs would be a good fit? Using 2 assessments\, you can identify jobs that would be a good fit for your interests and personality. \nRegistration must be completed 48 hours prior to the workshop date. You must have a valid email address to register for any workshop. \nYou may also register for a workshop by calling 508-771-JOBS (5627). Please have your Job Seeker ID# and email address information ready. You can also register through JobQuest and then select Cape and Islands Career Center for a list of scheduled workshops. You will need your Job Seeker ID# to register through JobQuest. \n \nRegister Now
URL:https://www.masshire-capeandislands.com/event/exploring-your-interests-and-options-recorded-sep-13/
CATEGORIES:Recording
END:VEVENT
BEGIN:VEVENT
DTSTART;TZID=America/New_York:20240916T100000
DTEND;TZID=America/New_York:20240916T110000
DTSTAMP:20260420T165912
CREATED:20240826T202730Z
LAST-MODIFIED:20240826T202730Z
UID:37927-1726480800-1726484400@www.masshire-capeandislands.com
SUMMARY:Effective Negotiation Using LMI – Recorded
DESCRIPTION:Congratulations! You nailed the interview\, and now the offer is on the table. But is there any room for negotiation? Does this offer sound reasonable based on the job market\, your experience\, and qualifications? Is it comparable to the wages being offered in this market? \nLearn how to effectively use labor market information in your salary negotiation. \nRegistration must be completed 48 hours prior to the workshop date. You must have a valid email address to register for any workshop. \nYou may also register for a workshop by calling 508-771-JOBS (5627).  Please have your Job Seeker ID# and email address information ready. You can also register through JobQuest and then select Cape and Islands Career Center for a list of scheduled workshops.  You will need your Job Seeker ID# to register through JobQuest. \nRegister Now
URL:https://www.masshire-capeandislands.com/event/effective-negotiation-using-lmi-recorded-sep-16/
CATEGORIES:Recording
END:VEVENT
BEGIN:VEVENT
DTSTART;TZID=America/New_York:20240918T100000
DTEND;TZID=America/New_York:20240918T110000
DTSTAMP:20260420T165912
CREATED:20240826T214221Z
LAST-MODIFIED:20240826T214312Z
UID:37951-1726653600-1726657200@www.masshire-capeandislands.com
SUMMARY:Networking in a Virtual World - Recorded
DESCRIPTION:It’s estimated that as many as 70% of open positions are filled through networking. Get strategies for networking in a virtual world to land your next job. \nRegistration must be completed 48 hours prior to the workshop date. You must have a valid email address to register for any workshop. \nYou may also register for a workshop by calling 508-771-JOBS (5627).  Please have your Job Seeker ID# and email address information ready. You can also register through JobQuest and then select Cape and Islands Career Center for a list of scheduled workshops. You will need your Job Seeker ID# to register through JobQuest. \nIf you are attending a recorded event\, we recommend that you check your computer power source\, internet connections and audio prior to joining the virtual workshop. Please note that there may be technology programs – either on our end or on yours – due to the high demand for remote services.  We will do our best to present our virtual workshops with as few issues as possible\, but we will not be able to help troubleshoot issues you may encounter. \nRegister Now
URL:https://www.masshire-capeandislands.com/event/networking-in-a-virtual-world-recorded-sep-18/
CATEGORIES:Recording
END:VEVENT
BEGIN:VEVENT
DTSTART;TZID=America/New_York:20240919T130000
DTEND;TZID=America/New_York:20240919T140000
DTSTAMP:20260420T165912
CREATED:20240826T215654Z
LAST-MODIFIED:20240826T215715Z
UID:37973-1726750800-1726754400@www.masshire-capeandislands.com
SUMMARY:Training and Education Services - Recorded
DESCRIPTION:If you are unemployed or underemployed and can’t find a job using your current skills\, you may be eligible for free training.  Learn how you can access training and education resources available through the career center. \nRegistration must be completed 24 hours prior to the workshop date. You must have a valid email address to register for any workshop. \nYou may also register for a workshop by calling 508-771-JOBS (5627).  Please have your Job Seeker ID# and email address information ready. You can also register through JobQuest and then select Cape and Islands Career Center for a list of scheduled workshops.  You will need your Job Seeker ID# to register through JobQuest. \nRegister Now
URL:https://www.masshire-capeandislands.com/event/training-and-education-services-recorded-sep-19/
CATEGORIES:Recording
END:VEVENT
BEGIN:VEVENT
DTSTART;TZID=America/New_York:20240920T100000
DTEND;TZID=America/New_York:20240920T110000
DTSTAMP:20260420T165913
CREATED:20240826T205401Z
LAST-MODIFIED:20240826T205401Z
UID:37941-1726826400-1726830000@www.masshire-capeandislands.com
SUMMARY:How to Conduct a Virtual Job Search - Recorded
DESCRIPTION:Learn about the most popular as well as the more specialized virtual job boards available to help you with your job search. Get tips about how to effectively manage your virtual job alerts and apply for jobs on the spot. \nRegistration must be completed 24 hours prior to the workshop date. You must have a valid email address to register for any workshop. \nYou may also register for a workshop by calling 508-771-JOBS (5627). Please have your Job Seeker ID# and email address information ready. You can also register through JobQuest and then select Cape and Islands Career Center for a list of scheduled workshops. You will need your Job Seeker ID# to register through JobQuest. \nRegister Now
URL:https://www.masshire-capeandislands.com/event/how-to-conduct-a-virtual-job-search-sep-20/
CATEGORIES:Recording
END:VEVENT
BEGIN:VEVENT
DTSTART;TZID=America/New_York:20240920T133000
DTEND;TZID=America/New_York:20240920T143000
DTSTAMP:20260420T165913
CREATED:20240826T214543Z
LAST-MODIFIED:20240826T214716Z
UID:37957-1726839000-1726842600@www.masshire-capeandislands.com
SUMMARY:Online Applications and Tests - Recorded
DESCRIPTION:Registration must be completed 48 hours prior to the workshop date. You must have a valid email address to register for any workshop. \nYou may also register for a workshop by calling 508-771-JOBS (5627). Please have your Job Seeker ID# and email address information ready. You can also register through JobQuest and then select Cape and Islands Career Center for a list of scheduled workshops. You will need your Job Seeker ID# to register through JobQuest. \n \nRegister Now
URL:https://www.masshire-capeandislands.com/event/online-applications-and-tests-recorded-sep-20/
CATEGORIES:Recording
END:VEVENT
BEGIN:VEVENT
DTSTART;TZID=America/New_York:20240923T100000
DTEND;TZID=America/New_York:20240923T110000
DTSTAMP:20260420T165913
CREATED:20240826T203652Z
LAST-MODIFIED:20240826T203844Z
UID:37933-1727085600-1727089200@www.masshire-capeandislands.com
SUMMARY:Exploring Your Interests and Options – Recorded
DESCRIPTION:Are you looking for a new direction? Not sure of what jobs would be a good fit? Using 2 assessments\, you can identify jobs that would be a good fit for your interests and personality. \nRegistration must be completed 48 hours prior to the workshop date. You must have a valid email address to register for any workshop. \nYou may also register for a workshop by calling 508-771-JOBS (5627). Please have your Job Seeker ID# and email address information ready. You can also register through JobQuest and then select Cape and Islands Career Center for a list of scheduled workshops. You will need your Job Seeker ID# to register through JobQuest. \n \nRegister Now
URL:https://www.masshire-capeandislands.com/event/exploring-your-interests-and-options-recorded-sep-23/
CATEGORIES:Recording
END:VEVENT
BEGIN:VEVENT
DTSTART;TZID=America/New_York:20240923T133000
DTEND;TZID=America/New_York:20240923T143000
DTSTAMP:20260420T165913
CREATED:20240826T215348Z
LAST-MODIFIED:20241213T151951Z
UID:37967-1727098200-1727101800@www.masshire-capeandislands.com
SUMMARY:TORQ Your Transferrable Skills – Recorded
DESCRIPTION:TORQ is a tool to help you examine how well your skills and capabilities transfer to various occupations.  Learn how to calculate your TORQ Score to determine how ready you are to perform a different career. \nRegistration must be completed 48 hours prior to the workshop date. You must have a valid email address to register for any workshop. \nYou may also register for a workshop by calling 508-771-JOBS (5627).  Please have your Job Seeker ID# and email address information ready. You can also register through JobQuest and then select Cape and Islands Career Center for a list of scheduled workshops.  You will need your Job Seeker ID# to register through JobQuest. \n  \nRegister Now
URL:https://www.masshire-capeandislands.com/event/torq-your-transferrable-skills-recorded-sep-23/
CATEGORIES:Recording
END:VEVENT
BEGIN:VEVENT
DTSTART;TZID=America/New_York:20240925T133000
DTEND;TZID=America/New_York:20240925T143000
DTSTAMP:20260420T165913
CREATED:20240826T214230Z
LAST-MODIFIED:20240826T214259Z
UID:37952-1727271000-1727274600@www.masshire-capeandislands.com
SUMMARY:Networking in a Virtual World - Recorded
DESCRIPTION:It’s estimated that as many as 70% of open positions are filled through networking. Get strategies for networking in a virtual world to land your next job. \nRegistration must be completed 48 hours prior to the workshop date. You must have a valid email address to register for any workshop. \nYou may also register for a workshop by calling 508-771-JOBS (5627).  Please have your Job Seeker ID# and email address information ready. You can also register through JobQuest and then select Cape and Islands Career Center for a list of scheduled workshops. You will need your Job Seeker ID# to register through JobQuest. \nIf you are attending a recorded event\, we recommend that you check your computer power source\, internet connections and audio prior to joining the virtual workshop. Please note that there may be technology programs – either on our end or on yours – due to the high demand for remote services.  We will do our best to present our virtual workshops with as few issues as possible\, but we will not be able to help troubleshoot issues you may encounter. \nRegister Now
URL:https://www.masshire-capeandislands.com/event/networking-in-a-virtual-world-recorded-sep-25/
CATEGORIES:Recording
END:VEVENT
BEGIN:VEVENT
DTSTART;TZID=America/New_York:20240927T133000
DTEND;TZID=America/New_York:20240927T143000
DTSTAMP:20260420T165913
CREATED:20240826T201442Z
LAST-MODIFIED:20240826T220746Z
UID:37920-1727443800-1727447400@www.masshire-capeandislands.com
SUMMARY:Career Exploration Using O*NET – Recorded
DESCRIPTION:A guide to O*NET online set of self-directed career exploration/assessment tools to help you consider and plan career options\, preparation and transitions to new a career that fits your interests and skills. \nRegistration must be completed 48 hours prior to the workshop date. You must have a valid email address to register for any workshop. \nYou may also register for a workshop by calling 508-771-JOBS (5627). Please have your Job Seeker ID# and email address information ready. You can also register through JobQuest and then select Cape and Islands Career Center for a list of scheduled workshops. You will need your Job Seeker ID# to register through JobQuest. \n \nRegister Now
URL:https://www.masshire-capeandislands.com/event/career-exploration-using-onet-in-person-sep-27/
CATEGORIES:Recording
END:VEVENT
BEGIN:VEVENT
DTSTART;TZID=America/New_York:20240930T100000
DTEND;TZID=America/New_York:20240930T110000
DTSTAMP:20260420T165913
CREATED:20240826T202844Z
LAST-MODIFIED:20240826T202844Z
UID:37929-1727690400-1727694000@www.masshire-capeandislands.com
SUMMARY:Effective Negotiation Using LMI – Recorded
DESCRIPTION:Congratulations! You nailed the interview\, and now the offer is on the table. But is there any room for negotiation? Does this offer sound reasonable based on the job market\, your experience\, and qualifications? Is it comparable to the wages being offered in this market? \nLearn how to effectively use labor market information in your salary negotiation. \nRegistration must be completed 48 hours prior to the workshop date. You must have a valid email address to register for any workshop. \nYou may also register for a workshop by calling 508-771-JOBS (5627).  Please have your Job Seeker ID# and email address information ready. You can also register through JobQuest and then select Cape and Islands Career Center for a list of scheduled workshops.  You will need your Job Seeker ID# to register through JobQuest. \nRegister Now
URL:https://www.masshire-capeandislands.com/event/effective-negotiation-using-lmi-recorded-sep-30/
CATEGORIES:Recording
END:VEVENT
BEGIN:VEVENT
DTSTART;TZID=America/New_York:20240930T133000
DTEND;TZID=America/New_York:20240930T143000
DTSTAMP:20260420T165913
CREATED:20240826T215428Z
LAST-MODIFIED:20240826T215448Z
UID:37969-1727703000-1727706600@www.masshire-capeandislands.com
SUMMARY:TORQ Your Transferrable Skills – Recorded
DESCRIPTION:TORQ is a tool to help you examine how well your skills and capabilities transfer to various occupations.  Learn how to calculate your TORQ Score to determine how ready you are to perform a different career. \nRegistration must be completed 48 hours prior to the workshop date. You must have a valid email address to register for any workshop. \nYou may also register for a workshop by calling 508-771-JOBS (5627).  Please have your Job Seeker ID# and email address information ready. You can also register through JobQuest and then select Cape and Islands Career Center for a list of scheduled workshops.  You will need your Job Seeker ID# to register through JobQuest. \n  \nRegister Now
URL:https://www.masshire-capeandislands.com/event/torq-your-transferrable-skills-recorded-sep-30/
CATEGORIES:Recording
END:VEVENT
END:VCALENDAR