BEGIN:VCALENDAR
VERSION:2.0
PRODID:-//MassHire Cape and Islands Career Center - ECPv6.15.20//NONSGML v1.0//EN
CALSCALE:GREGORIAN
METHOD:PUBLISH
X-WR-CALNAME:MassHire Cape and Islands Career Center
X-ORIGINAL-URL:https://www.masshire-capeandislands.com
X-WR-CALDESC:Events for MassHire Cape and Islands Career Center
REFRESH-INTERVAL;VALUE=DURATION:PT1H
X-Robots-Tag:noindex
X-PUBLISHED-TTL:PT1H
BEGIN:VTIMEZONE
TZID:America/New_York
BEGIN:DAYLIGHT
TZOFFSETFROM:-0500
TZOFFSETTO:-0400
TZNAME:EDT
DTSTART:20240310T070000
END:DAYLIGHT
BEGIN:STANDARD
TZOFFSETFROM:-0400
TZOFFSETTO:-0500
TZNAME:EST
DTSTART:20241103T060000
END:STANDARD
BEGIN:DAYLIGHT
TZOFFSETFROM:-0500
TZOFFSETTO:-0400
TZNAME:EDT
DTSTART:20250309T070000
END:DAYLIGHT
BEGIN:STANDARD
TZOFFSETFROM:-0400
TZOFFSETTO:-0500
TZNAME:EST
DTSTART:20251102T060000
END:STANDARD
BEGIN:DAYLIGHT
TZOFFSETFROM:-0500
TZOFFSETTO:-0400
TZNAME:EDT
DTSTART:20260308T070000
END:DAYLIGHT
BEGIN:STANDARD
TZOFFSETFROM:-0400
TZOFFSETTO:-0500
TZNAME:EST
DTSTART:20261101T060000
END:STANDARD
END:VTIMEZONE
BEGIN:VEVENT
DTSTART;TZID=America/New_York:20250103T100000
DTEND;TZID=America/New_York:20250103T110000
DTSTAMP:20260420T215302
CREATED:20241213T142744Z
LAST-MODIFIED:20241213T142818Z
UID:38541-1735898400-1735902000@www.masshire-capeandislands.com
SUMMARY:Exploring Your Interests andOptions – Recorded
DESCRIPTION:Are you looking for a new direction? Not sure what jobs would be a good fit? Using two assessments\, you can identify jobs that would be a good fit for your interests and personality. \nRegistration must be completed 24 hours prior to the workshop date. You must have a valid email address to register for any workshop. \nYou may also register for a workshop by calling 508-771-JOBS (5627). Please have your Job Seeker ID# and email address information ready. You can also register through JobQuest and then select Cape and Islands Career Center for a list of scheduled workshops. You will need your Job Seeker ID# to register through JobQuest. \nIf you are having difficulty logging into JobQuest\, please call 508-771-JOBS (5627)\, or stop by the Career Center during regular business hours\, Monday–Friday 8:00am to 4:00pm. \nRegister Now
URL:https://www.masshire-capeandislands.com/event/exploring-your-interests-andoptions-recorded-jan-3/
CATEGORIES:Recording
END:VEVENT
BEGIN:VEVENT
DTSTART;TZID=America/New_York:20250110T100000
DTEND;TZID=America/New_York:20250110T110000
DTSTAMP:20260420T215302
CREATED:20241213T151343Z
LAST-MODIFIED:20241213T151403Z
UID:38612-1736503200-1736506800@www.masshire-capeandislands.com
SUMMARY:Training and Education Services - Recorded
DESCRIPTION:If you are unemployed or underemployed and can’t find a job using your current skills\, you may be eligible for free training.  Learn how you can access training and education resources available through the career center. \nRegistration must be completed 24 hours prior to the workshop date. You must have a valid email address to register for any workshop. \nYou may also register for a workshop by calling 508-771-JOBS (5627).  Please have your Job Seeker ID# and email address information ready. You can also register through JobQuest and then select Cape and Islands Career Center for a list of scheduled workshops.  You will need your Job Seeker ID# to register through JobQuest. \nRegister Now
URL:https://www.masshire-capeandislands.com/event/training-and-education-services-recorded-jan-10/
CATEGORIES:Recording
END:VEVENT
BEGIN:VEVENT
DTSTART;TZID=America/New_York:20250117T100000
DTEND;TZID=America/New_York:20250117T110000
DTSTAMP:20260420T215302
CREATED:20241213T142505Z
LAST-MODIFIED:20241213T142615Z
UID:38539-1737108000-1737111600@www.masshire-capeandislands.com
SUMMARY:Effective Negotiation Using LMI – Recorded
DESCRIPTION:Congratulations! You nailed the interview\, and now the offer is on the table. But is there any room for negotiation? Does this offer sound reasonable based on the job market\, your experience\, and qualifications? Is it comparable to the wages being offered in this market? \nLearn how to effectively use labor market information in your salary negotiation. \nRegistration must be completed 48 hours prior to the workshop date. You must have a valid email address to register for any workshop. \nYou may also register for a workshop by calling 508-771-JOBS (5627).  Please have your Job Seeker ID# and email address information ready. You can also register through JobQuest and then select Cape and Islands Career Center for a list of scheduled workshops.  You will need your Job Seeker ID# to register through JobQuest. \nRegister Now
URL:https://www.masshire-capeandislands.com/event/effective-negotiation-using-lmi-recorded-jan-17-2/
CATEGORIES:Recording
END:VEVENT
BEGIN:VEVENT
DTSTART;TZID=America/New_York:20250124T100000
DTEND;TZID=America/New_York:20250124T110000
DTSTAMP:20260420T215302
CREATED:20241213T151652Z
LAST-MODIFIED:20241213T151718Z
UID:38616-1737712800-1737716400@www.masshire-capeandislands.com
SUMMARY:Mature Workers - Using Age to Your Advantage - Recorded
DESCRIPTION:There are advantages to being older that can translate into benefits to the employer\, making you a valuable job candidate.  Learn how to sell your track record\, skills\, and experience\, while overcoming obstacles that may be holding you back! \nRegistration must be completed 24 hours prior to the workshop date. You must have a valid email address to register for any workshop. \nYou may also register for a workshop by calling 508-771-JOBS (5627). Please have your Job Seeker ID# and email address information ready. You can also register through JobQuest and then select Cape and Islands Career Center for a list of scheduled workshops. You will need your Job Seeker ID# to register through JobQuest. \nIf you are having difficulty logging into JobQuest\, please call 508-771-JOBS (5627)\, or stop by the Career Center during regular business hours\, Monday–Friday 8:00am to 4:00pm. \nRegister Now
URL:https://www.masshire-capeandislands.com/event/mature-workers-using-age-to-your-advantage-recorded-jan-24/
CATEGORIES:Recording
END:VEVENT
BEGIN:VEVENT
DTSTART;TZID=America/New_York:20250131T100000
DTEND;TZID=America/New_York:20250131T110000
DTSTAMP:20260420T215302
CREATED:20250128T230831Z
LAST-MODIFIED:20250128T230831Z
UID:38898-1738317600-1738321200@www.masshire-capeandislands.com
SUMMARY:Resumes That Work - Recorded
DESCRIPTION:One of the Career Center’s most popular classes. Often your first impression with an employer\, a great resume is a necessity in today’s competitive job market. Learn how to create a resume that will help you get an interview! Learn about the latest formats\, what information to include\, and what employers are (and aren’t) looking for in a standout resume. \n*You may also want to schedule a 15-minute one-on-one Resume Review with a MassHire Certified Resume Writer. *These are by appointment only. Please call: 508-862-6104. \nRegistration must be completed 24 hours prior to the workshop date. You must have a valid email address to register for any workshop. \nYou may also register for a workshop by calling 508-771-JOBS (5627). Please have your Job Seeker ID# and email address information ready. You can also register through JobQuest and then select Cape and Islands Career Center for a list of scheduled workshops. You will need your Job Seeker ID# to register through JobQuest. \nIf you are having difficulty logging into JobQuest\, please call 508-771-JOBS (5627)\, or stop by the Career Center during regular business hours\, Monday–Friday 8:00am to 4:00pm. \nRegister Now
URL:https://www.masshire-capeandislands.com/event/resumes-that-work-recorded-jan-31/
CATEGORIES:Recording
END:VEVENT
END:VCALENDAR