BEGIN:VCALENDAR
VERSION:2.0
PRODID:-//MassHire Cape and Islands Career Center - ECPv6.15.20//NONSGML v1.0//EN
CALSCALE:GREGORIAN
METHOD:PUBLISH
X-WR-CALNAME:MassHire Cape and Islands Career Center
X-ORIGINAL-URL:https://www.masshire-capeandislands.com
X-WR-CALDESC:Events for MassHire Cape and Islands Career Center
REFRESH-INTERVAL;VALUE=DURATION:PT1H
X-Robots-Tag:noindex
X-PUBLISHED-TTL:PT1H
BEGIN:VTIMEZONE
TZID:America/New_York
BEGIN:DAYLIGHT
TZOFFSETFROM:-0500
TZOFFSETTO:-0400
TZNAME:EDT
DTSTART:20240310T070000
END:DAYLIGHT
BEGIN:STANDARD
TZOFFSETFROM:-0400
TZOFFSETTO:-0500
TZNAME:EST
DTSTART:20241103T060000
END:STANDARD
BEGIN:DAYLIGHT
TZOFFSETFROM:-0500
TZOFFSETTO:-0400
TZNAME:EDT
DTSTART:20250309T070000
END:DAYLIGHT
BEGIN:STANDARD
TZOFFSETFROM:-0400
TZOFFSETTO:-0500
TZNAME:EST
DTSTART:20251102T060000
END:STANDARD
BEGIN:DAYLIGHT
TZOFFSETFROM:-0500
TZOFFSETTO:-0400
TZNAME:EDT
DTSTART:20260308T070000
END:DAYLIGHT
BEGIN:STANDARD
TZOFFSETFROM:-0400
TZOFFSETTO:-0500
TZNAME:EST
DTSTART:20261101T060000
END:STANDARD
END:VTIMEZONE
BEGIN:VEVENT
DTSTART;TZID=America/New_York:20250404T100000
DTEND;TZID=America/New_York:20250404T110000
DTSTAMP:20260421T020932
CREATED:20250317T205433Z
LAST-MODIFIED:20250317T205433Z
UID:39308-1743760800-1743764400@www.masshire-capeandislands.com
SUMMARY:Training and Education Services - Recorded
DESCRIPTION:If you are unemployed or underemployed and can’t find a job using your current skills\, you may be eligible for free training.  Learn how you can access training and education resources available through the career center. \nRegistration must be completed 24 hours prior to the workshop date. You must have a valid email address to register for any workshop. \nYou may also register for a workshop by calling 508-771-JOBS (5627).  Please have your Job Seeker ID# and email address information ready. You can also register through JobQuest and then select Cape and Islands Career Center for a list of scheduled workshops.  You will need your Job Seeker ID# to register through JobQuest. \n Register Now
URL:https://www.masshire-capeandislands.com/event/training-and-education-services-recorded-apr-4/
CATEGORIES:Recording
END:VEVENT
BEGIN:VEVENT
DTSTART;TZID=America/New_York:20250411T100000
DTEND;TZID=America/New_York:20250411T110000
DTSTAMP:20260421T020932
CREATED:20250317T191450Z
LAST-MODIFIED:20250317T191520Z
UID:39235-1744365600-1744369200@www.masshire-capeandislands.com
SUMMARY:Exploring Your Interests andOptions – Recorded
DESCRIPTION:Are you looking for a new direction? Not sure what jobs would be a good fit? Using two assessments\, you can identify jobs that would be a good fit for your interests and personality. \nRegistration must be completed 24 hours prior to the workshop date. You must have a valid email address to register for any workshop. \nYou may also register for a workshop by calling 508-771-JOBS (5627). Please have your Job Seeker ID# and email address information ready. You can also register through JobQuest and then select Cape and Islands Career Center for a list of scheduled workshops. You will need your Job Seeker ID# to register through JobQuest. \nIf you are having difficulty logging into JobQuest\, please call 508-771-JOBS (5627)\, or stop by the Career Center during regular business hours\, Monday–Friday 8:00am to 4:00pm. \n Register Now
URL:https://www.masshire-capeandislands.com/event/exploring-your-interests-andoptions-recorded-apr-11/
CATEGORIES:Recording
END:VEVENT
BEGIN:VEVENT
DTSTART;TZID=America/New_York:20250418T100000
DTEND;TZID=America/New_York:20250418T110000
DTSTAMP:20260421T020932
CREATED:20250317T185856Z
LAST-MODIFIED:20250317T185917Z
UID:39227-1744970400-1744974000@www.masshire-capeandislands.com
SUMMARY:Career Exploration Using O*NET – Recorded
DESCRIPTION:A guide to O*NET! This online set of self-directed career exploration/assessment tools will help you consider and plan career options\, preparation and transitions to new a career that fits your interests and skills. The database is continually updated by surveying a broad range of workers from each occupation. \nRegistration must be completed 24 hours prior to the workshop date. You must have a valid email address to register for any workshop. An invitation email for the event will be sent in advance with the link to watch the webinar on the day of the event. Please do not delete this email\, as you will need to respond that you received the link or file for the workshop. You will also need to respond once you have finished watching the workshop video. \nYou may also register for a workshop by calling 508-771-JOBS (5627). Please have your Job Seeker ID# and email address information ready. You can also register through JobQuest and then select Cape and Islands Career Center for a list of scheduled workshops. You will need your Job Seeker ID# to register through JobQuest. \nIf you are having difficulty logging into JobQuest\, please call 508-771-JOBS (5627)\, or stop by the Career Center during regular business hours\, Monday–Friday 8:00am to 4:00pm. \n Register Now
URL:https://www.masshire-capeandislands.com/event/career-exploration-using-onet-recorded-apr-18/
CATEGORIES:Recording
END:VEVENT
BEGIN:VEVENT
DTSTART;TZID=America/New_York:20250423T100000
DTEND;TZID=America/New_York:20250423T110000
DTSTAMP:20260421T020932
CREATED:20250317T203832Z
LAST-MODIFIED:20250317T203832Z
UID:39302-1745402400-1745406000@www.masshire-capeandislands.com
SUMMARY:Résumés That Work - Recorded
DESCRIPTION:One of the Career Center’s most popular classes. Often your first impression with an employer\, a great resume is a necessity in today’s competitive job market. Learn how to create a résumé that will help you get an interview! Learn about the latest formats\, what information to include\, and what employers are (and aren’t) looking for in a standout résumé. \n*You may also want to schedule a 15-minute one-on-one Résumé Review with a MassHire Certified Résumé Writer. *These are by appointment only. Please call: 508-862-6104. \nRegistration must be completed 24 hours prior to the workshop date. You must have a valid email address to register for any workshop. \nYou may also register for a workshop by calling 508-771-JOBS (5627). Please have your Job Seeker ID# and email address information ready. You can also register through JobQuest and then select Cape and Islands Career Center for a list of scheduled workshops. You will need your Job Seeker ID# to register through JobQuest. \nIf you are having difficulty logging into JobQuest\, please call 508-771-JOBS (5627)\, or stop by the Career Center during regular business hours\, Monday–Friday 8:00am to 4:00pm. \n Register Now
URL:https://www.masshire-capeandislands.com/event/resumes-that-work-recorded-apr-23/
CATEGORIES:Recording
END:VEVENT
BEGIN:VEVENT
DTSTART;TZID=America/New_York:20250425T100000
DTEND;TZID=America/New_York:20250425T110000
DTSTAMP:20260421T020932
CREATED:20250317T191008Z
LAST-MODIFIED:20250317T191031Z
UID:39233-1745575200-1745578800@www.masshire-capeandislands.com
SUMMARY:Effective Negotiation Using LMI – Recorded
DESCRIPTION:Congratulations! You nailed the interview\, and now the offer is on the table. But is there any room for negotiation? Does this offer sound reasonable based on the job market\, your experience\, and qualifications? Is it comparable to the wages being offered in this market? \nLearn how to effectively use labor market information in your salary negotiation. \nRegistration must be completed 24 hours prior to the workshop date. You must have a valid email address to register for any workshop. \nYou may also register for a workshop by calling 508-771-JOBS (5627).  Please have your Job Seeker ID# and email address information ready. You can also register through JobQuest and then select Cape and Islands Career Center for a list of scheduled workshops.  You will need your Job Seeker ID# to register through JobQuest. \n Register Now
URL:https://www.masshire-capeandislands.com/event/effective-negotiation-using-lmi-recorded-apr-25/
CATEGORIES:Recording
END:VEVENT
END:VCALENDAR