BEGIN:VCALENDAR
VERSION:2.0
PRODID:-//MassHire Cape and Islands Career Center - ECPv6.15.20//NONSGML v1.0//EN
CALSCALE:GREGORIAN
METHOD:PUBLISH
X-WR-CALNAME:MassHire Cape and Islands Career Center
X-ORIGINAL-URL:https://www.masshire-capeandislands.com
X-WR-CALDESC:Events for MassHire Cape and Islands Career Center
REFRESH-INTERVAL;VALUE=DURATION:PT1H
X-Robots-Tag:noindex
X-PUBLISHED-TTL:PT1H
BEGIN:VTIMEZONE
TZID:America/New_York
BEGIN:DAYLIGHT
TZOFFSETFROM:-0500
TZOFFSETTO:-0400
TZNAME:EDT
DTSTART:20220313T070000
END:DAYLIGHT
BEGIN:STANDARD
TZOFFSETFROM:-0400
TZOFFSETTO:-0500
TZNAME:EST
DTSTART:20221106T060000
END:STANDARD
BEGIN:DAYLIGHT
TZOFFSETFROM:-0500
TZOFFSETTO:-0400
TZNAME:EDT
DTSTART:20230312T070000
END:DAYLIGHT
BEGIN:STANDARD
TZOFFSETFROM:-0400
TZOFFSETTO:-0500
TZNAME:EST
DTSTART:20231105T060000
END:STANDARD
BEGIN:DAYLIGHT
TZOFFSETFROM:-0500
TZOFFSETTO:-0400
TZNAME:EDT
DTSTART:20240310T070000
END:DAYLIGHT
BEGIN:STANDARD
TZOFFSETFROM:-0400
TZOFFSETTO:-0500
TZNAME:EST
DTSTART:20241103T060000
END:STANDARD
END:VTIMEZONE
BEGIN:VEVENT
DTSTART;TZID=America/New_York:20230731T093000
DTEND;TZID=America/New_York:20230731T103000
DTSTAMP:20260424T223629
CREATED:20230620T204406Z
LAST-MODIFIED:20230621T135810Z
UID:35245-1690795800-1690799400@www.masshire-capeandislands.com
SUMMARY:How to Conduct a Virtual Job Search (Recorded)
DESCRIPTION:Learn about the most popular as well as the more specialized virtual job boards available to help you with your job search. Get tips about how to effectively manage your virtual job alerts and apply for jobs on the spot. \nRegistration must be completed 24 hours prior to the workshop date. You must have a valid email address to register for any workshop. \nYou may also register for a workshop by calling 508-771-JOBS (5627). Please have your Job Seeker ID# and email address information ready. You can also register through JobQuest and then select Cape and Islands Career Center for a list of scheduled workshops. You will need your Job Seeker ID# to register through JobQuest. \nWe recommend that you check your computer power source\, internet connections and audio prior to joining the virtual workshop. Please note that there may be technology programs – either on our end or on yours – due to the high demand for remote services. We will do our best to present our virtual workshops with as few issues as possible but we will not be able to help troubleshoot issues you may encounter. \nRegister Now
URL:https://www.masshire-capeandislands.com/event/how-to-conduct-a-virtual-job-search-jul-31/
CATEGORIES:Recording
ATTACH;FMTTYPE=image/jpeg:https://www.masshire-capeandislands.com/wp-content/uploads/Event-JobSearch.jpg
END:VEVENT
BEGIN:VEVENT
DTSTART;TZID=America/New_York:20230731T133000
DTEND;TZID=America/New_York:20230731T143000
DTSTAMP:20260424T223629
CREATED:20230620T183704Z
LAST-MODIFIED:20230620T183704Z
UID:35238-1690810200-1690813800@www.masshire-capeandislands.com
SUMMARY:Exploring Your Interests and Options (Recorded)
DESCRIPTION:Are you looking for a new direction? Not sure of what jobs would be a good fit? Using 2 assessments\, you can identify jobs that would be a good fit for your interests and personality. \nRegistration must be completed 48 hours prior to the workshop date. You must have a valid email address to register for any workshop. \nYou may also register for a workshop by calling 508-771-JOBS (5627). Please have your Job Seeker ID# and email address information ready. You can also register through JobQuest and then select Cape and Islands Career Center for a list of scheduled workshops. You will need your Job Seeker ID# to register through JobQuest. \nThis workshop is being offered in our computer seminar room\, and participants will have an opportunity to get on-line to try the software programs themselves during the session. \nRegister Now
URL:https://www.masshire-capeandislands.com/event/exploring-your-interests-and-options-recorded-jul-31/
CATEGORIES:Recording
ATTACH;FMTTYPE=image/jpeg:https://www.masshire-capeandislands.com/wp-content/uploads/interests.jpg
END:VEVENT
END:VCALENDAR