BEGIN:VCALENDAR
VERSION:2.0
PRODID:-//MassHire Cape and Islands Career Center - ECPv6.15.20//NONSGML v1.0//EN
CALSCALE:GREGORIAN
METHOD:PUBLISH
X-ORIGINAL-URL:https://www.masshire-capeandislands.com
X-WR-CALDESC:Events for MassHire Cape and Islands Career Center
REFRESH-INTERVAL;VALUE=DURATION:PT1H
X-Robots-Tag:noindex
X-PUBLISHED-TTL:PT1H
BEGIN:VTIMEZONE
TZID:America/New_York
BEGIN:DAYLIGHT
TZOFFSETFROM:-0500
TZOFFSETTO:-0400
TZNAME:EDT
DTSTART:20230312T070000
END:DAYLIGHT
BEGIN:STANDARD
TZOFFSETFROM:-0400
TZOFFSETTO:-0500
TZNAME:EST
DTSTART:20231105T060000
END:STANDARD
BEGIN:DAYLIGHT
TZOFFSETFROM:-0500
TZOFFSETTO:-0400
TZNAME:EDT
DTSTART:20240310T070000
END:DAYLIGHT
BEGIN:STANDARD
TZOFFSETFROM:-0400
TZOFFSETTO:-0500
TZNAME:EST
DTSTART:20241103T060000
END:STANDARD
BEGIN:DAYLIGHT
TZOFFSETFROM:-0500
TZOFFSETTO:-0400
TZNAME:EDT
DTSTART:20250309T070000
END:DAYLIGHT
BEGIN:STANDARD
TZOFFSETFROM:-0400
TZOFFSETTO:-0500
TZNAME:EST
DTSTART:20251102T060000
END:STANDARD
END:VTIMEZONE
BEGIN:VEVENT
DTSTART;TZID=America/New_York:20241122T100000
DTEND;TZID=America/New_York:20241122T110000
DTSTAMP:20260420T204023
CREATED:20241022T143413Z
LAST-MODIFIED:20241022T152309Z
UID:38261-1732269600-1732273200@www.masshire-capeandislands.com
SUMMARY:Online Applications and Tests - Recorded
DESCRIPTION:Many employers – on and off-Cape – only accept online job applications.  Discover how to successfully complete applications and learn to avoid the mistakes that send your application to a black hole.  Also\, learn how best to handle those pesky online tests. \nRegistration must be completed 24 hours prior to the workshop date. You must have a valid email address to register for any workshop. \nYou may also register for a workshop by calling 508-771-JOBS (5627). Please have your Job Seeker ID# and email address information ready. You can also register through JobQuest and then select Cape and Islands Career Center for a list of scheduled workshops. You will need your Job Seeker ID# to register through JobQuest. \nIf you are having difficulty logging into JobQuest\, please call 508-771-JOBS (5627)\, or stop by the Career Center during regular business hours\, Monday–Friday 8:00am to 4:00pm. \nRegister Now
URL:https://www.masshire-capeandislands.com/event/online-applications-and-tests-recorded-nov-22/
CATEGORIES:Recording
END:VEVENT
END:VCALENDAR